BEGIN:VCALENDAR
VERSION:2.0
PRODID:-//CHGA - ECPv6.15.20//NONSGML v1.0//EN
CALSCALE:GREGORIAN
METHOD:PUBLISH
X-WR-CALNAME:CHGA
X-ORIGINAL-URL:https://www.chga.fm
X-WR-CALDESC:évènements pour CHGA
REFRESH-INTERVAL;VALUE=DURATION:PT1H
X-Robots-Tag:noindex
X-PUBLISHED-TTL:PT1H
BEGIN:VTIMEZONE
TZID:America/Toronto
BEGIN:DAYLIGHT
TZOFFSETFROM:-0500
TZOFFSETTO:-0400
TZNAME:EDT
DTSTART:20200308T070000
END:DAYLIGHT
BEGIN:STANDARD
TZOFFSETFROM:-0400
TZOFFSETTO:-0500
TZNAME:EST
DTSTART:20201101T060000
END:STANDARD
BEGIN:DAYLIGHT
TZOFFSETFROM:-0500
TZOFFSETTO:-0400
TZNAME:EDT
DTSTART:20210314T070000
END:DAYLIGHT
BEGIN:STANDARD
TZOFFSETFROM:-0400
TZOFFSETTO:-0500
TZNAME:EST
DTSTART:20211107T060000
END:STANDARD
BEGIN:DAYLIGHT
TZOFFSETFROM:-0500
TZOFFSETTO:-0400
TZNAME:EDT
DTSTART:20220313T070000
END:DAYLIGHT
BEGIN:STANDARD
TZOFFSETFROM:-0400
TZOFFSETTO:-0500
TZNAME:EST
DTSTART:20221106T060000
END:STANDARD
END:VTIMEZONE
BEGIN:VEVENT
DTSTART;TZID=America/Toronto:20211111T133000
DTEND;TZID=America/Toronto:20211111T153000
DTSTAMP:20260421T153053
CREATED:20211025T190302Z
LAST-MODIFIED:20211025T190702Z
UID:390584-1636637400-1636644600@www.chga.fm
SUMMARY:Voix et solidarité – Semaine nationale des proches aidants
DESCRIPTION:Dans le cadre de la semaine nationale des personnes proches aidantes\, Voix et solidarité des aidants naturels de la Vallée-de-la-Gatineau vous invite à une rencontre portant sur le thème « La reconnaissance de soi » avec Madame Jacinthe Chaussé\, thérapeute en gestion émotionnelle \nL’activité se déroulera le jeudi 11 novembre\, de 13 h 30 à 15 h 30\, au Château logue ou via la plateforme Zoom. \nLe passeport vaccinal est obligatoire. \nPour plus d’informations et pour recevoir les liens Zoom\, contactez le 819 441-1001 ou le 1 855 448-1818.
URL:https://www.chga.fm/evenement/voix-et-solidarite-semaine-nationale-des-proches-aidants-3/
LOCATION:Château Logue Maniwaki\, 12 Rue Comeau\, Maniwaki\, QC\, J9E 2R8\, Canada
END:VEVENT
END:VCALENDAR