BEGIN:VCALENDAR
VERSION:2.0
PRODID:-//CHGA - ECPv6.15.20//NONSGML v1.0//EN
CALSCALE:GREGORIAN
METHOD:PUBLISH
X-WR-CALNAME:CHGA
X-ORIGINAL-URL:https://www.chga.fm
X-WR-CALDESC:évènements pour CHGA
REFRESH-INTERVAL;VALUE=DURATION:PT1H
X-Robots-Tag:noindex
X-PUBLISHED-TTL:PT1H
BEGIN:VTIMEZONE
TZID:America/Toronto
BEGIN:DAYLIGHT
TZOFFSETFROM:-0500
TZOFFSETTO:-0400
TZNAME:EDT
DTSTART:20200308T070000
END:DAYLIGHT
BEGIN:STANDARD
TZOFFSETFROM:-0400
TZOFFSETTO:-0500
TZNAME:EST
DTSTART:20201101T060000
END:STANDARD
BEGIN:DAYLIGHT
TZOFFSETFROM:-0500
TZOFFSETTO:-0400
TZNAME:EDT
DTSTART:20210314T070000
END:DAYLIGHT
BEGIN:STANDARD
TZOFFSETFROM:-0400
TZOFFSETTO:-0500
TZNAME:EST
DTSTART:20211107T060000
END:STANDARD
BEGIN:DAYLIGHT
TZOFFSETFROM:-0500
TZOFFSETTO:-0400
TZNAME:EDT
DTSTART:20220313T070000
END:DAYLIGHT
BEGIN:STANDARD
TZOFFSETFROM:-0400
TZOFFSETTO:-0500
TZNAME:EST
DTSTART:20221106T060000
END:STANDARD
END:VTIMEZONE
BEGIN:VEVENT
DTSTART;TZID=America/Toronto:20210615T130000
DTEND;TZID=America/Toronto:20210615T170000
DTSTAMP:20260422T004421
CREATED:20210531T180055Z
LAST-MODIFIED:20210531T180055Z
UID:382128-1623762000-1623776400@www.chga.fm
SUMMARY:Voix et solidarité des aidants naturels VG - Assemblée générale annuelle
DESCRIPTION:Voix et solidarité des aidants naturels de la Vallée-de-la-Gatineau vous invite à leur assemblée générale annuelle qui aura lieu le 15 juin prochain\, à 13 h 00\, au château logue situé au 12\, rue Comeau à Maniwaki en présence. \nAdvenant\, que les mesures sanitaires changent\, nous nous réservons le droit de transférer l’assemblée générale annuelle sur la plateforme Zoom. \nVenez découvrir notre organisme. Pour plus d’informations\, contactez le 819-441-1001.
URL:https://www.chga.fm/evenement/voix-et-solidarite-des-aidants-naturels-vg-assemblee-generale-annuelle/
LOCATION:QC\, Canada
END:VEVENT
END:VCALENDAR