BEGIN:VCALENDAR
VERSION:2.0
PRODID:-//CHGA - ECPv6.15.20//NONSGML v1.0//EN
CALSCALE:GREGORIAN
METHOD:PUBLISH
X-WR-CALNAME:CHGA
X-ORIGINAL-URL:https://www.chga.fm
X-WR-CALDESC:évènements pour CHGA
REFRESH-INTERVAL;VALUE=DURATION:PT1H
X-Robots-Tag:noindex
X-PUBLISHED-TTL:PT1H
BEGIN:VTIMEZONE
TZID:America/Toronto
BEGIN:DAYLIGHT
TZOFFSETFROM:-0500
TZOFFSETTO:-0400
TZNAME:EDT
DTSTART:20210314T070000
END:DAYLIGHT
BEGIN:STANDARD
TZOFFSETFROM:-0400
TZOFFSETTO:-0500
TZNAME:EST
DTSTART:20211107T060000
END:STANDARD
BEGIN:DAYLIGHT
TZOFFSETFROM:-0500
TZOFFSETTO:-0400
TZNAME:EDT
DTSTART:20220313T070000
END:DAYLIGHT
BEGIN:STANDARD
TZOFFSETFROM:-0400
TZOFFSETTO:-0500
TZNAME:EST
DTSTART:20221106T060000
END:STANDARD
BEGIN:DAYLIGHT
TZOFFSETFROM:-0500
TZOFFSETTO:-0400
TZNAME:EDT
DTSTART:20230312T070000
END:DAYLIGHT
BEGIN:STANDARD
TZOFFSETFROM:-0400
TZOFFSETTO:-0500
TZNAME:EST
DTSTART:20231105T060000
END:STANDARD
END:VTIMEZONE
BEGIN:VEVENT
DTSTART;TZID=America/Toronto:20220217T080000
DTEND;TZID=America/Toronto:20220217T170000
DTSTAMP:20260421T110924
CREATED:20220209T153728Z
LAST-MODIFIED:20220209T153728Z
UID:10015415-1645084800-1645117200@www.chga.fm
SUMMARY:Voix et Solidarité des aidants naturels Vallée-de-la-Gatineau - Ateliers sur les impôts
DESCRIPTION:Voix et solidarité des aidants naturels Vallée-de-la-Gatineau vous offre une série de trois ateliers sur la plateforme virtuelle Teams destinés aux personnes proches aidantes et aux personnes du bel âge.  \nCes ateliers proposeront des informations pertinentes quant à vos déclarations d’impôts à venir. \nDurant ceux-ci\, les participants auront la possibilité d’en apprendre plus sur certains crédits d’impôts ou autres questions relatives pouvant s’appliquer à leur situation. \nVeuillez noter que les trois ateliers proposés auront lieu les 17\, 22 et 24 février prochain et proposeront des contenus distincts. \nPour obtenir les liens Teams et réserver votre place téléphonez au 819-441-1001
URL:https://www.chga.fm/evenement/voix-et-solidarite-des-aidants-naturels-vallee-de-la-gatineau-ateliers-sur-les-impots/2022-02-17/
LOCATION:QC\, Canada
END:VEVENT
END:VCALENDAR