BEGIN:VCALENDAR
VERSION:2.0
PRODID:-//CHGA - ECPv6.15.20//NONSGML v1.0//EN
CALSCALE:GREGORIAN
METHOD:PUBLISH
X-WR-CALNAME:CHGA
X-ORIGINAL-URL:https://www.chga.fm
X-WR-CALDESC:évènements pour CHGA
REFRESH-INTERVAL;VALUE=DURATION:PT1H
X-Robots-Tag:noindex
X-PUBLISHED-TTL:PT1H
BEGIN:VTIMEZONE
TZID:America/Toronto
BEGIN:DAYLIGHT
TZOFFSETFROM:-0500
TZOFFSETTO:-0400
TZNAME:EDT
DTSTART:20230312T070000
END:DAYLIGHT
BEGIN:STANDARD
TZOFFSETFROM:-0400
TZOFFSETTO:-0500
TZNAME:EST
DTSTART:20231105T060000
END:STANDARD
BEGIN:DAYLIGHT
TZOFFSETFROM:-0500
TZOFFSETTO:-0400
TZNAME:EDT
DTSTART:20240310T070000
END:DAYLIGHT
BEGIN:STANDARD
TZOFFSETFROM:-0400
TZOFFSETTO:-0500
TZNAME:EST
DTSTART:20241103T060000
END:STANDARD
BEGIN:DAYLIGHT
TZOFFSETFROM:-0500
TZOFFSETTO:-0400
TZNAME:EDT
DTSTART:20250309T070000
END:DAYLIGHT
BEGIN:STANDARD
TZOFFSETFROM:-0400
TZOFFSETTO:-0500
TZNAME:EST
DTSTART:20251102T060000
END:STANDARD
END:VTIMEZONE
BEGIN:VEVENT
DTSTART;TZID=America/Toronto:20240306T133000
DTEND;TZID=America/Toronto:20240306T163000
DTSTAMP:20260422T042858
CREATED:20240213T155504Z
LAST-MODIFIED:20240213T160212Z
UID:438634-1709731800-1709742600@www.chga.fm
SUMMARY:Voix et Solidarité des aidants naturels de la Vallée-de-la Gatineau
DESCRIPTION:Mercredi le 6 mars à compter de 13h30\, les conseillères de Voix et Solidarité des aidants naturels de la Vallée-de-la Gatineau \nvous invites à leur atelier d’information qui aura lieux au 248 rue Cartier de Maniwaki. \nLe thème sera : les directives médicales anticipée animé par une avocate du centre de proximité Outaouais. \nCafé et collation offerte gratuitement. \nPrendre note que les groupes de soutiens sont réserver aux personnes proches aidants. \nPour informations: 819 441-1001
URL:https://www.chga.fm/evenement/voix-et-solidarite-des-aidants-naturels-de-la-vallee-de-la-gatineau-7/
LOCATION:QC\, Canada
END:VEVENT
END:VCALENDAR