BEGIN:VCALENDAR
VERSION:2.0
PRODID:-//CHGA - ECPv6.15.20//NONSGML v1.0//EN
CALSCALE:GREGORIAN
METHOD:PUBLISH
X-WR-CALNAME:CHGA
X-ORIGINAL-URL:https://www.chga.fm
X-WR-CALDESC:évènements pour CHGA
REFRESH-INTERVAL;VALUE=DURATION:PT1H
X-Robots-Tag:noindex
X-PUBLISHED-TTL:PT1H
BEGIN:VTIMEZONE
TZID:America/Toronto
BEGIN:DAYLIGHT
TZOFFSETFROM:-0500
TZOFFSETTO:-0400
TZNAME:EDT
DTSTART:20200308T070000
END:DAYLIGHT
BEGIN:STANDARD
TZOFFSETFROM:-0400
TZOFFSETTO:-0500
TZNAME:EST
DTSTART:20201101T060000
END:STANDARD
BEGIN:DAYLIGHT
TZOFFSETFROM:-0500
TZOFFSETTO:-0400
TZNAME:EDT
DTSTART:20210314T070000
END:DAYLIGHT
BEGIN:STANDARD
TZOFFSETFROM:-0400
TZOFFSETTO:-0500
TZNAME:EST
DTSTART:20211107T060000
END:STANDARD
BEGIN:DAYLIGHT
TZOFFSETFROM:-0500
TZOFFSETTO:-0400
TZNAME:EDT
DTSTART:20220313T070000
END:DAYLIGHT
BEGIN:STANDARD
TZOFFSETFROM:-0400
TZOFFSETTO:-0500
TZNAME:EST
DTSTART:20221106T060000
END:STANDARD
END:VTIMEZONE
BEGIN:VEVENT
DTSTART;TZID=America/Toronto:20211001T090000
DTEND;TZID=America/Toronto:20211001T170000
DTSTAMP:20260421T182250
CREATED:20210923T190419Z
LAST-MODIFIED:20210923T190419Z
UID:388905-1633078800-1633107600@www.chga.fm
SUMMARY:Voix et solidarité - Clinique de code QR
DESCRIPTION:À l’occasion de la journée internationale des aînés\, le 1er octobre prochain\, Voix et solidarité des aidants naturels de la Vallée-de-la-Gatineau désire offrir gratuitement aux aînés de la région une clinique de code QR pour ceux et celles qui ne l’ont pas. \nLa clinique sera ouverte de 9 h 00 à 17 h 00 et se situera à nos bureaux\, au 248\, rue Cartier à Maniwaki. \nPour plus d’informations\, contactez-nous au 819-441-1001.
URL:https://www.chga.fm/evenement/voix-et-solidarite-clinique-de-code-qr/
LOCATION:Voix et solidarité des aidants naturels de la Vallée-de-la-Gatineau\, 248\, rue Cartier\, Maniwaki\, QC\, J9E 3P5\, Canada
END:VEVENT
END:VCALENDAR