BEGIN:VCALENDAR
VERSION:2.0
PRODID:-//CHGA - ECPv6.15.20//NONSGML v1.0//EN
CALSCALE:GREGORIAN
METHOD:PUBLISH
X-WR-CALNAME:CHGA
X-ORIGINAL-URL:https://www.chga.fm
X-WR-CALDESC:évènements pour CHGA
REFRESH-INTERVAL;VALUE=DURATION:PT1H
X-Robots-Tag:noindex
X-PUBLISHED-TTL:PT1H
BEGIN:VTIMEZONE
TZID:America/Toronto
BEGIN:DAYLIGHT
TZOFFSETFROM:-0500
TZOFFSETTO:-0400
TZNAME:EDT
DTSTART:20220313T070000
END:DAYLIGHT
BEGIN:STANDARD
TZOFFSETFROM:-0400
TZOFFSETTO:-0500
TZNAME:EST
DTSTART:20221106T060000
END:STANDARD
BEGIN:DAYLIGHT
TZOFFSETFROM:-0500
TZOFFSETTO:-0400
TZNAME:EDT
DTSTART:20230312T070000
END:DAYLIGHT
BEGIN:STANDARD
TZOFFSETFROM:-0400
TZOFFSETTO:-0500
TZNAME:EST
DTSTART:20231105T060000
END:STANDARD
BEGIN:DAYLIGHT
TZOFFSETFROM:-0500
TZOFFSETTO:-0400
TZNAME:EDT
DTSTART:20240310T070000
END:DAYLIGHT
BEGIN:STANDARD
TZOFFSETFROM:-0400
TZOFFSETTO:-0500
TZNAME:EST
DTSTART:20241103T060000
END:STANDARD
END:VTIMEZONE
BEGIN:VEVENT
DTSTART;TZID=America/Toronto:20230901T080000
DTEND;TZID=America/Toronto:20230901T170000
DTSTAMP:20260420T042436
CREATED:20230828T150618Z
LAST-MODIFIED:20230828T150756Z
UID:429260-1693555200-1693587600@www.chga.fm
SUMMARY:Vente de garage
DESCRIPTION:Les employés et les membres du Conseil d’administration de Jeunesse sans frontières Vallée-de-la-Gatineau\, en partenariat avec Les vivaces de la Vallée organisent une vente de garage les 1er\, 2 et 3 septembre au 8 route 105 à Gracefield (Vivaces de la Vallée). Une partie des ventes sera versé en dons à la Maison des jeunes de Gracefield. Ils invitent la population à se joindre à eux si vous avez des effets à vendre et qui ont une deuxième vie à venir. \nVous pouvez aussi donner vos articles à vendre à Jeunesse sans frontières. Communiquez avec eux au 819 463 4030 entre 13h30 et 21h.
URL:https://www.chga.fm/evenement/vente-de-garage-2/
END:VEVENT
END:VCALENDAR