BEGIN:VCALENDAR
VERSION:2.0
PRODID:-//CHGA - ECPv6.15.20//NONSGML v1.0//EN
CALSCALE:GREGORIAN
METHOD:PUBLISH
X-WR-CALNAME:CHGA
X-ORIGINAL-URL:https://www.chga.fm
X-WR-CALDESC:évènements pour CHGA
REFRESH-INTERVAL;VALUE=DURATION:PT1H
X-Robots-Tag:noindex
X-PUBLISHED-TTL:PT1H
BEGIN:VTIMEZONE
TZID:America/Toronto
BEGIN:DAYLIGHT
TZOFFSETFROM:-0500
TZOFFSETTO:-0400
TZNAME:EDT
DTSTART:20210314T070000
END:DAYLIGHT
BEGIN:STANDARD
TZOFFSETFROM:-0400
TZOFFSETTO:-0500
TZNAME:EST
DTSTART:20211107T060000
END:STANDARD
BEGIN:DAYLIGHT
TZOFFSETFROM:-0500
TZOFFSETTO:-0400
TZNAME:EDT
DTSTART:20220313T070000
END:DAYLIGHT
BEGIN:STANDARD
TZOFFSETFROM:-0400
TZOFFSETTO:-0500
TZNAME:EST
DTSTART:20221106T060000
END:STANDARD
BEGIN:DAYLIGHT
TZOFFSETFROM:-0500
TZOFFSETTO:-0400
TZNAME:EDT
DTSTART:20230312T070000
END:DAYLIGHT
BEGIN:STANDARD
TZOFFSETFROM:-0400
TZOFFSETTO:-0500
TZNAME:EST
DTSTART:20231105T060000
END:STANDARD
END:VTIMEZONE
BEGIN:VEVENT
DTSTART;TZID=America/Toronto:20221104T100000
DTEND;TZID=America/Toronto:20221104T170000
DTSTAMP:20260420T192654
CREATED:20221104T133721Z
LAST-MODIFIED:20221104T133721Z
UID:412561-1667556000-1667581200@www.chga.fm
SUMMARY:Vente de calendriers et de cartes de membre CHGA
DESCRIPTION:Madame Micheline et Madame Claire seront présentes aujourd’hui au Maxi de Maniwaki pour vendre les calendriers de la radio CHGA\, ainsi que les nouvelles cartes de membre 2023-2024\, et ce\, jusqu’à 17 h 00.
URL:https://www.chga.fm/evenement/vente-de-calendriers-et-de-cartes-de-membre-chga/
LOCATION:QC\, Canada
END:VEVENT
END:VCALENDAR