BEGIN:VCALENDAR
VERSION:2.0
PRODID:-//CHGA - ECPv6.15.20//NONSGML v1.0//EN
CALSCALE:GREGORIAN
METHOD:PUBLISH
X-WR-CALNAME:CHGA
X-ORIGINAL-URL:https://www.chga.fm
X-WR-CALDESC:évènements pour CHGA
REFRESH-INTERVAL;VALUE=DURATION:PT1H
X-Robots-Tag:noindex
X-PUBLISHED-TTL:PT1H
BEGIN:VTIMEZONE
TZID:America/Toronto
BEGIN:DAYLIGHT
TZOFFSETFROM:-0500
TZOFFSETTO:-0400
TZNAME:EDT
DTSTART:20210314T070000
END:DAYLIGHT
BEGIN:STANDARD
TZOFFSETFROM:-0400
TZOFFSETTO:-0500
TZNAME:EST
DTSTART:20211107T060000
END:STANDARD
BEGIN:DAYLIGHT
TZOFFSETFROM:-0500
TZOFFSETTO:-0400
TZNAME:EDT
DTSTART:20220313T070000
END:DAYLIGHT
BEGIN:STANDARD
TZOFFSETFROM:-0400
TZOFFSETTO:-0500
TZNAME:EST
DTSTART:20221106T060000
END:STANDARD
BEGIN:DAYLIGHT
TZOFFSETFROM:-0500
TZOFFSETTO:-0400
TZNAME:EDT
DTSTART:20230312T070000
END:DAYLIGHT
BEGIN:STANDARD
TZOFFSETFROM:-0400
TZOFFSETTO:-0500
TZNAME:EST
DTSTART:20231105T060000
END:STANDARD
END:VTIMEZONE
BEGIN:VEVENT
DTSTART;VALUE=DATE:20220709
DTEND;VALUE=DATE:20220710
DTSTAMP:20260421T014839
CREATED:20220705T124636Z
LAST-MODIFIED:20220705T124822Z
UID:405877-1657324800-1657411199@www.chga.fm
SUMMARY:Tournoi de pêche au lac Des Iles
DESCRIPTION:Samedi le 9 juillet aura lieu un tournoi de pêche à l’achigan au lac Des Iles . \nL’inscription se fera dès 8 heures directement à la descente du lac Des Iles. \nLe coût de l’inscription est de 25.$ par personne. \nTous les profits iront au centre récréatif du lac Long. \nPour renseignements\, contactez Raymond au :819-463-1811
URL:https://www.chga.fm/evenement/tournoi-de-peche-a-lachigan-au-lac-des-iles/
LOCATION:Centre Récréatif Du Lac Long\, 356\, Chemin Du Lac Long\, Blue Sea\, QC\, J0X 1C0\, Canada
END:VEVENT
END:VCALENDAR