BEGIN:VCALENDAR
VERSION:2.0
PRODID:-//CHGA - ECPv6.15.20//NONSGML v1.0//EN
CALSCALE:GREGORIAN
METHOD:PUBLISH
X-WR-CALNAME:CHGA
X-ORIGINAL-URL:https://www.chga.fm
X-WR-CALDESC:évènements pour CHGA
REFRESH-INTERVAL;VALUE=DURATION:PT1H
X-Robots-Tag:noindex
X-PUBLISHED-TTL:PT1H
BEGIN:VTIMEZONE
TZID:America/Toronto
BEGIN:DAYLIGHT
TZOFFSETFROM:-0500
TZOFFSETTO:-0400
TZNAME:EDT
DTSTART:20210314T070000
END:DAYLIGHT
BEGIN:STANDARD
TZOFFSETFROM:-0400
TZOFFSETTO:-0500
TZNAME:EST
DTSTART:20211107T060000
END:STANDARD
BEGIN:DAYLIGHT
TZOFFSETFROM:-0500
TZOFFSETTO:-0400
TZNAME:EDT
DTSTART:20220313T070000
END:DAYLIGHT
BEGIN:STANDARD
TZOFFSETFROM:-0400
TZOFFSETTO:-0500
TZNAME:EST
DTSTART:20221106T060000
END:STANDARD
BEGIN:DAYLIGHT
TZOFFSETFROM:-0500
TZOFFSETTO:-0400
TZNAME:EDT
DTSTART:20230312T070000
END:DAYLIGHT
BEGIN:STANDARD
TZOFFSETFROM:-0400
TZOFFSETTO:-0500
TZNAME:EST
DTSTART:20231105T060000
END:STANDARD
END:VTIMEZONE
BEGIN:VEVENT
DTSTART;TZID=America/Toronto:20220813T090000
DTEND;TZID=America/Toronto:20220813T173000
DTSTAMP:20260421T012550
CREATED:20220810T143626Z
LAST-MODIFIED:20220810T143723Z
UID:407632-1660381200-1660411800@www.chga.fm
SUMMARY:Tournoi de balle du Lac Long
DESCRIPTION:Le centre récréatif du Lac Long organise un tournoi de balle le samedi 13 août au 396\, Chemin du Lac Long à Blue Sea. De 9h à 12h ce seront les inscriptions\, à 12h il y aura un BBQ hot-dogs\, frites et à 17h30 un souper spaghetti au coût de 10$ de plus\, un orchestre en soirée avec Donald Paradis. \nPour plus d’informations\, communiquez avec Dominic Lacaille au 819 334-3714.
URL:https://www.chga.fm/evenement/tournoi-de-balle-du-lac-long/
LOCATION:QC\, Canada
END:VEVENT
END:VCALENDAR