BEGIN:VCALENDAR
VERSION:2.0
PRODID:-//CHGA - ECPv6.15.20//NONSGML v1.0//EN
CALSCALE:GREGORIAN
METHOD:PUBLISH
X-WR-CALNAME:CHGA
X-ORIGINAL-URL:https://www.chga.fm
X-WR-CALDESC:évènements pour CHGA
REFRESH-INTERVAL;VALUE=DURATION:PT1H
X-Robots-Tag:noindex
X-PUBLISHED-TTL:PT1H
BEGIN:VTIMEZONE
TZID:America/Toronto
BEGIN:DAYLIGHT
TZOFFSETFROM:-0500
TZOFFSETTO:-0400
TZNAME:EDT
DTSTART:20220313T070000
END:DAYLIGHT
BEGIN:STANDARD
TZOFFSETFROM:-0400
TZOFFSETTO:-0500
TZNAME:EST
DTSTART:20221106T060000
END:STANDARD
BEGIN:DAYLIGHT
TZOFFSETFROM:-0500
TZOFFSETTO:-0400
TZNAME:EDT
DTSTART:20230312T070000
END:DAYLIGHT
BEGIN:STANDARD
TZOFFSETFROM:-0400
TZOFFSETTO:-0500
TZNAME:EST
DTSTART:20231105T060000
END:STANDARD
BEGIN:DAYLIGHT
TZOFFSETFROM:-0500
TZOFFSETTO:-0400
TZNAME:EDT
DTSTART:20240310T070000
END:DAYLIGHT
BEGIN:STANDARD
TZOFFSETFROM:-0400
TZOFFSETTO:-0500
TZNAME:EST
DTSTART:20241103T060000
END:STANDARD
END:VTIMEZONE
BEGIN:VEVENT
DTSTART;TZID=America/Toronto:20230425T103000
DTEND;TZID=America/Toronto:20230425T150000
DTSTAMP:20260420T130243
CREATED:20230425T140838Z
LAST-MODIFIED:20230425T141018Z
UID:10019119-1682418600-1682434800@www.chga.fm
SUMMARY:Techniques de couture\, broderie\, etc - Cercle des Fermières
DESCRIPTION:Si tu as le goût d’apprendre les techniques de couture\, broderie\, tissage et tricot\, joins-toi au Cercle des Fermières situé au 270\, rue Notre-Dame à Maniwaki. \nLes rencontres se tiennent les mercredis de 10 h 30 à 15 h et ce de septembre à mai inclusivement. \nLe coût annuel est de 35 $ par année et ceci comprend une revue provinciale l’Actuelle. Pour plus d’informations\, veuillez appeler au numéro 819-449-4606
URL:https://www.chga.fm/evenement/techniques-de-couture-broderie-etc-cercle-des-fermieres/2023-04-25/
LOCATION:QC\, Canada
END:VEVENT
END:VCALENDAR