BEGIN:VCALENDAR
VERSION:2.0
PRODID:-//CHGA - ECPv6.15.20//NONSGML v1.0//EN
CALSCALE:GREGORIAN
METHOD:PUBLISH
X-WR-CALNAME:CHGA
X-ORIGINAL-URL:https://www.chga.fm
X-WR-CALDESC:évènements pour CHGA
REFRESH-INTERVAL;VALUE=DURATION:PT1H
X-Robots-Tag:noindex
X-PUBLISHED-TTL:PT1H
BEGIN:VTIMEZONE
TZID:America/Toronto
BEGIN:DAYLIGHT
TZOFFSETFROM:-0500
TZOFFSETTO:-0400
TZNAME:EDT
DTSTART:20190310T070000
END:DAYLIGHT
BEGIN:STANDARD
TZOFFSETFROM:-0400
TZOFFSETTO:-0500
TZNAME:EST
DTSTART:20191103T060000
END:STANDARD
BEGIN:DAYLIGHT
TZOFFSETFROM:-0500
TZOFFSETTO:-0400
TZNAME:EDT
DTSTART:20200308T070000
END:DAYLIGHT
BEGIN:STANDARD
TZOFFSETFROM:-0400
TZOFFSETTO:-0500
TZNAME:EST
DTSTART:20201101T060000
END:STANDARD
BEGIN:DAYLIGHT
TZOFFSETFROM:-0500
TZOFFSETTO:-0400
TZNAME:EDT
DTSTART:20210314T070000
END:DAYLIGHT
BEGIN:STANDARD
TZOFFSETFROM:-0400
TZOFFSETTO:-0500
TZNAME:EST
DTSTART:20211107T060000
END:STANDARD
END:VTIMEZONE
BEGIN:VEVENT
DTSTART;TZID=America/Toronto:20201121T090000
DTEND;TZID=America/Toronto:20201121T113000
DTSTAMP:20260422T115042
CREATED:20201111T173631Z
LAST-MODIFIED:20201111T175740Z
UID:372441-1605949200-1605958200@www.chga.fm
SUMMARY:Suicide Détour  -   Café Rencontre
DESCRIPTION:Journée des Endeuillés par Suicide \nVenez chercher un peu de réconfort en discutant avec des gens qui comme vous\, ont perdu un être cher dans des circonstances difficiles. \nPlace limitées\, vous avez jusqu’au 19 novembre 16h pour réserver la vôtre à  \nadministration@suicidedetour.org ou par téléphone 819-441-1010 entre 9h et 16h les jours de semaine.
URL:https://www.chga.fm/evenement/suicide-detour-cafe-rencontre/
LOCATION:Église L’Assomption de Maniwaki\, 326\, rue du Couvent\, Maniwaki\, QC\, J9E 1H4\, Canada
END:VEVENT
END:VCALENDAR