BEGIN:VCALENDAR
VERSION:2.0
PRODID:-//CHGA - ECPv6.15.20//NONSGML v1.0//EN
CALSCALE:GREGORIAN
METHOD:PUBLISH
X-WR-CALNAME:CHGA
X-ORIGINAL-URL:https://www.chga.fm
X-WR-CALDESC:évènements pour CHGA
REFRESH-INTERVAL;VALUE=DURATION:PT1H
X-Robots-Tag:noindex
X-PUBLISHED-TTL:PT1H
BEGIN:VTIMEZONE
TZID:America/Toronto
BEGIN:DAYLIGHT
TZOFFSETFROM:-0500
TZOFFSETTO:-0400
TZNAME:EDT
DTSTART:20200308T070000
END:DAYLIGHT
BEGIN:STANDARD
TZOFFSETFROM:-0400
TZOFFSETTO:-0500
TZNAME:EST
DTSTART:20201101T060000
END:STANDARD
BEGIN:DAYLIGHT
TZOFFSETFROM:-0500
TZOFFSETTO:-0400
TZNAME:EDT
DTSTART:20210314T070000
END:DAYLIGHT
BEGIN:STANDARD
TZOFFSETFROM:-0400
TZOFFSETTO:-0500
TZNAME:EST
DTSTART:20211107T060000
END:STANDARD
BEGIN:DAYLIGHT
TZOFFSETFROM:-0500
TZOFFSETTO:-0400
TZNAME:EDT
DTSTART:20220313T070000
END:DAYLIGHT
BEGIN:STANDARD
TZOFFSETFROM:-0400
TZOFFSETTO:-0500
TZNAME:EST
DTSTART:20221106T060000
END:STANDARD
END:VTIMEZONE
BEGIN:VEVENT
DTSTART;TZID=America/Toronto:20210615T180000
DTEND;TZID=America/Toronto:20210615T180000
DTSTAMP:20260422T004811
CREATED:20210514T145422Z
LAST-MODIFIED:20210531T135246Z
UID:381331-1623780000-1623780000@www.chga.fm
SUMMARY:Suicide Détour - Assemblée générale annuelle
DESCRIPTION:Suicide détour a le plaisir de convoquer les membres du conseil d’administration ainsi que les membres en règles à l’assemblée générale annuelle 2021. \nCelle-ci sera tenue le mardi 15 juin 2021 au Château Logue situé au 12\, rue Comeau\, à 18 h 00. \nCette rencontre pourrait être convertie en ZOOM sans préavis\, selon les directives ministérielles. \nLes frais de 5 $ pour la carte de membre doivent avoir été acquittés afin de se prévaloir d’un droit de votre lors de l’assemblée. \nLes membres qui désirent participer à l’AGA doivent s’inscrire par courriel à administration@suicidedetour.org au plus tard le 4 juin 2021.
URL:https://www.chga.fm/evenement/suicide-detour-assemblee-generale-annuelle/
LOCATION:QC\, Canada
END:VEVENT
END:VCALENDAR