BEGIN:VCALENDAR
VERSION:2.0
PRODID:-//CHGA - ECPv6.15.20//NONSGML v1.0//EN
CALSCALE:GREGORIAN
METHOD:PUBLISH
X-WR-CALNAME:CHGA
X-ORIGINAL-URL:https://www.chga.fm
X-WR-CALDESC:évènements pour CHGA
REFRESH-INTERVAL;VALUE=DURATION:PT1H
X-Robots-Tag:noindex
X-PUBLISHED-TTL:PT1H
BEGIN:VTIMEZONE
TZID:America/Toronto
BEGIN:DAYLIGHT
TZOFFSETFROM:-0500
TZOFFSETTO:-0400
TZNAME:EDT
DTSTART:20210314T070000
END:DAYLIGHT
BEGIN:STANDARD
TZOFFSETFROM:-0400
TZOFFSETTO:-0500
TZNAME:EST
DTSTART:20211107T060000
END:STANDARD
BEGIN:DAYLIGHT
TZOFFSETFROM:-0500
TZOFFSETTO:-0400
TZNAME:EDT
DTSTART:20220313T070000
END:DAYLIGHT
BEGIN:STANDARD
TZOFFSETFROM:-0400
TZOFFSETTO:-0500
TZNAME:EST
DTSTART:20221106T060000
END:STANDARD
BEGIN:DAYLIGHT
TZOFFSETFROM:-0500
TZOFFSETTO:-0400
TZNAME:EDT
DTSTART:20230312T070000
END:DAYLIGHT
BEGIN:STANDARD
TZOFFSETFROM:-0400
TZOFFSETTO:-0500
TZNAME:EST
DTSTART:20231105T060000
END:STANDARD
END:VTIMEZONE
BEGIN:VEVENT
DTSTART;TZID=America/Toronto:20220430T190000
DTEND;TZID=America/Toronto:20220430T190000
DTSTAMP:20260421T065134
CREATED:20220419T152355Z
LAST-MODIFIED:20220419T152355Z
UID:400257-1651345200-1651345200@www.chga.fm
SUMMARY:Spectacle Une Aventure Fantastique
DESCRIPTION:Dans’Action présente le Spectacle Une Aventure Fantastique le samedi 30 avril à 19 heures au Centre Sportif Gino Odjick . \nLes billets sont 20.00 $ par admission générale en vente à la Bijouterie la Paysanne \, à leurs studios et à la porte.
URL:https://www.chga.fm/evenement/spectacle-une-aventure-fantastique/
LOCATION:Centre Sportif Gino Odjick\, 118\, rue Laurier\, Maniwaki\, QC\, J9E 2K4\, Canada
END:VEVENT
END:VCALENDAR