BEGIN:VCALENDAR
VERSION:2.0
PRODID:-//CHGA - ECPv6.15.20//NONSGML v1.0//EN
CALSCALE:GREGORIAN
METHOD:PUBLISH
X-WR-CALNAME:CHGA
X-ORIGINAL-URL:https://www.chga.fm
X-WR-CALDESC:évènements pour CHGA
REFRESH-INTERVAL;VALUE=DURATION:PT1H
X-Robots-Tag:noindex
X-PUBLISHED-TTL:PT1H
BEGIN:VTIMEZONE
TZID:America/Toronto
BEGIN:DAYLIGHT
TZOFFSETFROM:-0500
TZOFFSETTO:-0400
TZNAME:EDT
DTSTART:20210314T070000
END:DAYLIGHT
BEGIN:STANDARD
TZOFFSETFROM:-0400
TZOFFSETTO:-0500
TZNAME:EST
DTSTART:20211107T060000
END:STANDARD
BEGIN:DAYLIGHT
TZOFFSETFROM:-0500
TZOFFSETTO:-0400
TZNAME:EDT
DTSTART:20220313T070000
END:DAYLIGHT
BEGIN:STANDARD
TZOFFSETFROM:-0400
TZOFFSETTO:-0500
TZNAME:EST
DTSTART:20221106T060000
END:STANDARD
BEGIN:DAYLIGHT
TZOFFSETFROM:-0500
TZOFFSETTO:-0400
TZNAME:EDT
DTSTART:20230312T070000
END:DAYLIGHT
BEGIN:STANDARD
TZOFFSETFROM:-0400
TZOFFSETTO:-0500
TZNAME:EST
DTSTART:20231105T060000
END:STANDARD
END:VTIMEZONE
BEGIN:VEVENT
DTSTART;TZID=America/Toronto:20220514T170000
DTEND;TZID=America/Toronto:20220514T170000
DTSTAMP:20260421T064852
CREATED:20220506T141615Z
LAST-MODIFIED:20220506T141615Z
UID:401464-1652547600-1652547600@www.chga.fm
SUMMARY:Spectacle bénéfice
DESCRIPTION:Voix et solidarité des aidants naturels de la Vallée de la Gatineau\, organise un souper spectacle bénéfice afin d’amasser des fonds pour l’élaboration d’une maison de répit Gilles Carles en partenariat avec la maison de la culture. La soirée se déroulera le samedi 14 mai 2022 à 17h au 130\, Rue du Christ Roi à Maniwaki. Les billets sont au coût de 48$\, vous pouvez aller sur la page Facebook de l’organisme ou celle de la maison de l’organisme pour vous procurer des billets ou passez à l’organisme pour vous les procurer au 248\, Rue Carter à Maniwaki. \nPour plus d’informations\, téléphonez au 819 441-1001.
URL:https://www.chga.fm/evenement/spectacle-benefice/
LOCATION:Église Christ-Roi\, 128\, rue Christ-Roi\, Maniwaki\, QC\, Canada
END:VEVENT
END:VCALENDAR