BEGIN:VCALENDAR
VERSION:2.0
PRODID:-//CHGA - ECPv6.15.20//NONSGML v1.0//EN
CALSCALE:GREGORIAN
METHOD:PUBLISH
X-WR-CALNAME:CHGA
X-ORIGINAL-URL:https://www.chga.fm
X-WR-CALDESC:évènements pour CHGA
REFRESH-INTERVAL;VALUE=DURATION:PT1H
X-Robots-Tag:noindex
X-PUBLISHED-TTL:PT1H
BEGIN:VTIMEZONE
TZID:America/Toronto
BEGIN:DAYLIGHT
TZOFFSETFROM:-0500
TZOFFSETTO:-0400
TZNAME:EDT
DTSTART:20210314T070000
END:DAYLIGHT
BEGIN:STANDARD
TZOFFSETFROM:-0400
TZOFFSETTO:-0500
TZNAME:EST
DTSTART:20211107T060000
END:STANDARD
BEGIN:DAYLIGHT
TZOFFSETFROM:-0500
TZOFFSETTO:-0400
TZNAME:EDT
DTSTART:20220313T070000
END:DAYLIGHT
BEGIN:STANDARD
TZOFFSETFROM:-0400
TZOFFSETTO:-0500
TZNAME:EST
DTSTART:20221106T060000
END:STANDARD
BEGIN:DAYLIGHT
TZOFFSETFROM:-0500
TZOFFSETTO:-0400
TZNAME:EDT
DTSTART:20230312T070000
END:DAYLIGHT
BEGIN:STANDARD
TZOFFSETFROM:-0400
TZOFFSETTO:-0500
TZNAME:EST
DTSTART:20231105T060000
END:STANDARD
END:VTIMEZONE
BEGIN:VEVENT
DTSTART;TZID=America/Toronto:20221210T170000
DTEND;TZID=America/Toronto:20221210T170000
DTSTAMP:20260420T173826
CREATED:20221122T202620Z
LAST-MODIFIED:20221122T202620Z
UID:413597-1670691600-1670691600@www.chga.fm
SUMMARY:Souper traditionnel de Noël - La FADOQ les bons vivants de Bouchette
DESCRIPTION:La FADOQ les bons vivants de Bouchette organise un souper traditionnel de Noël\, le samedi 10 décembre 2022 à 17 h 00 à la salle municipale de Bouchette\, suivi d’une soirée dansante avec Donald paradis. Svp\, apportez votre consommation. Les places sont limitées. Pour les non membre le prix est 25$ et pour les membres le prix est de 10$. \nLes billets seront en vente jusqu’au 1er décembre 2022. \nVendu par Suzanne au 819 465-2573 – Hélène 819 441-8078 et Angèle 613 203-4366.
URL:https://www.chga.fm/evenement/souper-traditionnel-de-noel-la-fadoq-les-bons-vivants-de-bouchette/
LOCATION:QC\, Canada
END:VEVENT
END:VCALENDAR