BEGIN:VCALENDAR
VERSION:2.0
PRODID:-//CHGA - ECPv6.15.20//NONSGML v1.0//EN
CALSCALE:GREGORIAN
METHOD:PUBLISH
X-WR-CALNAME:CHGA
X-ORIGINAL-URL:https://www.chga.fm
X-WR-CALDESC:évènements pour CHGA
REFRESH-INTERVAL;VALUE=DURATION:PT1H
X-Robots-Tag:noindex
X-PUBLISHED-TTL:PT1H
BEGIN:VTIMEZONE
TZID:America/Toronto
BEGIN:DAYLIGHT
TZOFFSETFROM:-0500
TZOFFSETTO:-0400
TZNAME:EDT
DTSTART:20230312T070000
END:DAYLIGHT
BEGIN:STANDARD
TZOFFSETFROM:-0400
TZOFFSETTO:-0500
TZNAME:EST
DTSTART:20231105T060000
END:STANDARD
BEGIN:DAYLIGHT
TZOFFSETFROM:-0500
TZOFFSETTO:-0400
TZNAME:EDT
DTSTART:20240310T070000
END:DAYLIGHT
BEGIN:STANDARD
TZOFFSETFROM:-0400
TZOFFSETTO:-0500
TZNAME:EST
DTSTART:20241103T060000
END:STANDARD
BEGIN:DAYLIGHT
TZOFFSETFROM:-0500
TZOFFSETTO:-0400
TZNAME:EDT
DTSTART:20250309T070000
END:DAYLIGHT
BEGIN:STANDARD
TZOFFSETFROM:-0400
TZOFFSETTO:-0500
TZNAME:EST
DTSTART:20251102T060000
END:STANDARD
END:VTIMEZONE
BEGIN:VEVENT
DTSTART;TZID=America/Toronto:20240316T173000
DTEND;TZID=America/Toronto:20240316T213000
DTSTAMP:20260420T185231
CREATED:20240312T172312Z
LAST-MODIFIED:20240312T172434Z
UID:440450-1710610200-1710624600@www.chga.fm
SUMMARY:Souper\, soirée dansante - Le Club d'amitié de Bois-Franc
DESCRIPTION:Le Club d’amitié de Bois-Franc organise une soirée dansante et un souper le samedi 16 mars 2024 à la salle Donat Hubert. Un repas froid sera servi à 17h30 au coût de 15$ suivi de la soirée dansante à 19h. Animé par Donald Paradis. De plus\, il y a un bar sur place.  \nPour plus d’informations\, communiquez avec Yvette au 819 449-3524.
URL:https://www.chga.fm/evenement/souper-soiree-dansante-le-club-damitie-de-bois-franc-4/
LOCATION:QC\, Canada
END:VEVENT
END:VCALENDAR