BEGIN:VCALENDAR
VERSION:2.0
PRODID:-//CHGA - ECPv6.15.20//NONSGML v1.0//EN
CALSCALE:GREGORIAN
METHOD:PUBLISH
X-WR-CALNAME:CHGA
X-ORIGINAL-URL:https://www.chga.fm
X-WR-CALDESC:évènements pour CHGA
REFRESH-INTERVAL;VALUE=DURATION:PT1H
X-Robots-Tag:noindex
X-PUBLISHED-TTL:PT1H
BEGIN:VTIMEZONE
TZID:America/Toronto
BEGIN:DAYLIGHT
TZOFFSETFROM:-0500
TZOFFSETTO:-0400
TZNAME:EDT
DTSTART:20220313T070000
END:DAYLIGHT
BEGIN:STANDARD
TZOFFSETFROM:-0400
TZOFFSETTO:-0500
TZNAME:EST
DTSTART:20221106T060000
END:STANDARD
BEGIN:DAYLIGHT
TZOFFSETFROM:-0500
TZOFFSETTO:-0400
TZNAME:EDT
DTSTART:20230312T070000
END:DAYLIGHT
BEGIN:STANDARD
TZOFFSETFROM:-0400
TZOFFSETTO:-0500
TZNAME:EST
DTSTART:20231105T060000
END:STANDARD
BEGIN:DAYLIGHT
TZOFFSETFROM:-0500
TZOFFSETTO:-0400
TZNAME:EDT
DTSTART:20240310T070000
END:DAYLIGHT
BEGIN:STANDARD
TZOFFSETFROM:-0400
TZOFFSETTO:-0500
TZNAME:EST
DTSTART:20241103T060000
END:STANDARD
END:VTIMEZONE
BEGIN:VEVENT
DTSTART;TZID=America/Toronto:20230919T160000
DTEND;TZID=America/Toronto:20230919T190000
DTSTAMP:20260422T042300
CREATED:20230918T143608Z
LAST-MODIFIED:20230918T143608Z
UID:430467-1695139200-1695150000@www.chga.fm
SUMMARY:Souper hot-dogs
DESCRIPTION:Sélectionnée pour une deuxième année consécutive par le Club de Hockey Féminin Les Intrépides AAA de Gatineau\, venez encourager Daphnée Lafond le mardi 19 septembre prochain\, en venant au souper hot-dogs de 16h à 19h au parc Carignan dans la Comeauville. Tout l’argent amassé servira à financer une partie de la saison de Hockey de Daphnée.
URL:https://www.chga.fm/evenement/souper-hot-dogs/
LOCATION:QC\, Canada
END:VEVENT
END:VCALENDAR