BEGIN:VCALENDAR
VERSION:2.0
PRODID:-//CHGA - ECPv6.15.20//NONSGML v1.0//EN
CALSCALE:GREGORIAN
METHOD:PUBLISH
X-WR-CALNAME:CHGA
X-ORIGINAL-URL:https://www.chga.fm
X-WR-CALDESC:évènements pour CHGA
REFRESH-INTERVAL;VALUE=DURATION:PT1H
X-Robots-Tag:noindex
X-PUBLISHED-TTL:PT1H
BEGIN:VTIMEZONE
TZID:America/Toronto
BEGIN:DAYLIGHT
TZOFFSETFROM:-0500
TZOFFSETTO:-0400
TZNAME:EDT
DTSTART:20220313T070000
END:DAYLIGHT
BEGIN:STANDARD
TZOFFSETFROM:-0400
TZOFFSETTO:-0500
TZNAME:EST
DTSTART:20221106T060000
END:STANDARD
BEGIN:DAYLIGHT
TZOFFSETFROM:-0500
TZOFFSETTO:-0400
TZNAME:EDT
DTSTART:20230312T070000
END:DAYLIGHT
BEGIN:STANDARD
TZOFFSETFROM:-0400
TZOFFSETTO:-0500
TZNAME:EST
DTSTART:20231105T060000
END:STANDARD
BEGIN:DAYLIGHT
TZOFFSETFROM:-0500
TZOFFSETTO:-0400
TZNAME:EDT
DTSTART:20240310T070000
END:DAYLIGHT
BEGIN:STANDARD
TZOFFSETFROM:-0400
TZOFFSETTO:-0500
TZNAME:EST
DTSTART:20241103T060000
END:STANDARD
END:VTIMEZONE
BEGIN:VEVENT
DTSTART;TZID=America/Toronto:20230910T173000
DTEND;TZID=America/Toronto:20230910T193000
DTSTAMP:20260420T054453
CREATED:20230828T124820Z
LAST-MODIFIED:20230828T124820Z
UID:429236-1694367000-1694374200@www.chga.fm
SUMMARY:Souper et soirée dansante - Les Porteurs de Bonheur de Cayamant
DESCRIPTION:Le Club de l’âge d’or – Les Porteurs de Bonheur de Cayamant\, tiendra un souper et soirée dansante le dimanche 10 septembre 2023 dès 17h30 à la salle municipale de Cayamant. Un repas froid sera servi. Le coût est de 12$ pour les membres et 15$ pour les non-membres. De plus\, veuillez apporter votre consommation. \nPour plus d’informations\, communiquez avec Jocelyne au 819 463-2594 ou avec Lise au 819 685-0847.
URL:https://www.chga.fm/evenement/souper-et-soiree-dansante-les-porteurs-de-bonheur-de-cayamant/
END:VEVENT
END:VCALENDAR