BEGIN:VCALENDAR
VERSION:2.0
PRODID:-//CHGA - ECPv6.15.20//NONSGML v1.0//EN
CALSCALE:GREGORIAN
METHOD:PUBLISH
X-WR-CALNAME:CHGA
X-ORIGINAL-URL:https://www.chga.fm
X-WR-CALDESC:évènements pour CHGA
REFRESH-INTERVAL;VALUE=DURATION:PT1H
X-Robots-Tag:noindex
X-PUBLISHED-TTL:PT1H
BEGIN:VTIMEZONE
TZID:America/Toronto
BEGIN:DAYLIGHT
TZOFFSETFROM:-0500
TZOFFSETTO:-0400
TZNAME:EDT
DTSTART:20220313T070000
END:DAYLIGHT
BEGIN:STANDARD
TZOFFSETFROM:-0400
TZOFFSETTO:-0500
TZNAME:EST
DTSTART:20221106T060000
END:STANDARD
BEGIN:DAYLIGHT
TZOFFSETFROM:-0500
TZOFFSETTO:-0400
TZNAME:EDT
DTSTART:20230312T070000
END:DAYLIGHT
BEGIN:STANDARD
TZOFFSETFROM:-0400
TZOFFSETTO:-0500
TZNAME:EST
DTSTART:20231105T060000
END:STANDARD
BEGIN:DAYLIGHT
TZOFFSETFROM:-0500
TZOFFSETTO:-0400
TZNAME:EDT
DTSTART:20240310T070000
END:DAYLIGHT
BEGIN:STANDARD
TZOFFSETFROM:-0400
TZOFFSETTO:-0500
TZNAME:EST
DTSTART:20241103T060000
END:STANDARD
END:VTIMEZONE
BEGIN:VEVENT
DTSTART;TZID=America/Toronto:20230917T160000
DTEND;TZID=America/Toronto:20230917T200000
DTSTAMP:20260422T042859
CREATED:20230831T182925Z
LAST-MODIFIED:20230831T183049Z
UID:429563-1694966400-1694980800@www.chga.fm
SUMMARY:Souper et soirée dansante - Le Club des Joyeux vivants de Gracefield
DESCRIPTION:Le Club des Joyeux Vivants de Gracefield vous invite à leur souper et soirée dansante le dimanche 17 septembre 2023 dès 17h30 à la salle municipale de Gracefield. De plus\, la soirée sera animée par M. Donald Paradis dès 19h. Le coût du souper est de 15$ pour les membres et de 18$ pour les non-membres. Prendre note que les portes ouvriront à 16h. \n(Personne de 50 ans et plus) \nPour plus d’informations\, communiquez avec Jovette au 819 463-2533 ou Suzanne 819 463-1077.
URL:https://www.chga.fm/evenement/souper-et-soiree-dansante-le-club-des-joyeux-vivants-de-gracefield/
LOCATION:QC\, Canada
END:VEVENT
END:VCALENDAR