BEGIN:VCALENDAR
VERSION:2.0
PRODID:-//CHGA - ECPv6.15.20//NONSGML v1.0//EN
CALSCALE:GREGORIAN
METHOD:PUBLISH
X-WR-CALNAME:CHGA
X-ORIGINAL-URL:https://www.chga.fm
X-WR-CALDESC:évènements pour CHGA
REFRESH-INTERVAL;VALUE=DURATION:PT1H
X-Robots-Tag:noindex
X-PUBLISHED-TTL:PT1H
BEGIN:VTIMEZONE
TZID:America/Toronto
BEGIN:DAYLIGHT
TZOFFSETFROM:-0500
TZOFFSETTO:-0400
TZNAME:EDT
DTSTART:20220313T070000
END:DAYLIGHT
BEGIN:STANDARD
TZOFFSETFROM:-0400
TZOFFSETTO:-0500
TZNAME:EST
DTSTART:20221106T060000
END:STANDARD
BEGIN:DAYLIGHT
TZOFFSETFROM:-0500
TZOFFSETTO:-0400
TZNAME:EDT
DTSTART:20230312T070000
END:DAYLIGHT
BEGIN:STANDARD
TZOFFSETFROM:-0400
TZOFFSETTO:-0500
TZNAME:EST
DTSTART:20231105T060000
END:STANDARD
BEGIN:DAYLIGHT
TZOFFSETFROM:-0500
TZOFFSETTO:-0400
TZNAME:EDT
DTSTART:20240310T070000
END:DAYLIGHT
BEGIN:STANDARD
TZOFFSETFROM:-0400
TZOFFSETTO:-0500
TZNAME:EST
DTSTART:20241103T060000
END:STANDARD
END:VTIMEZONE
BEGIN:VEVENT
DTSTART;TZID=America/Toronto:20230311T080000
DTEND;TZID=America/Toronto:20230311T170000
DTSTAMP:20260420T131015
CREATED:20230221T200504Z
LAST-MODIFIED:20230221T200504Z
UID:418393-1678521600-1678554000@www.chga.fm
SUMMARY:Souper chaud et soirée dansante - Club de l'âge d'or de Maniwaki
DESCRIPTION:Le Club d’Âge d’Or de Maniwaki invite tous les membres à un souper chaud et une soirée dansante le samedi 11 mars 2023 dans le haut de l’aréna. La soirée dansante sera animée par Donald Paradis. L’entrée est de 20$ avec la carte de membre. Svp\, apporter votre propre consommation.  \nL’achat des billets est disponible jusqu’au 9 mars 2023. \nPour plus d’informations\, communiquez avec Bob au 819 334-2843\, Michelle au 819 334-9661 ou Claudette au 819 449-2131.
URL:https://www.chga.fm/evenement/souper-chaud-et-soiree-dansante-club-de-lage-dor-de-maniwaki/
LOCATION:QC\, Canada
END:VEVENT
END:VCALENDAR