BEGIN:VCALENDAR
VERSION:2.0
PRODID:-//CHGA - ECPv6.15.20//NONSGML v1.0//EN
CALSCALE:GREGORIAN
METHOD:PUBLISH
X-WR-CALNAME:CHGA
X-ORIGINAL-URL:https://www.chga.fm
X-WR-CALDESC:évènements pour CHGA
REFRESH-INTERVAL;VALUE=DURATION:PT1H
X-Robots-Tag:noindex
X-PUBLISHED-TTL:PT1H
BEGIN:VTIMEZONE
TZID:America/Toronto
BEGIN:DAYLIGHT
TZOFFSETFROM:-0500
TZOFFSETTO:-0400
TZNAME:EDT
DTSTART:20230312T070000
END:DAYLIGHT
BEGIN:STANDARD
TZOFFSETFROM:-0400
TZOFFSETTO:-0500
TZNAME:EST
DTSTART:20231105T060000
END:STANDARD
BEGIN:DAYLIGHT
TZOFFSETFROM:-0500
TZOFFSETTO:-0400
TZNAME:EDT
DTSTART:20240310T070000
END:DAYLIGHT
BEGIN:STANDARD
TZOFFSETFROM:-0400
TZOFFSETTO:-0500
TZNAME:EST
DTSTART:20241103T060000
END:STANDARD
BEGIN:DAYLIGHT
TZOFFSETFROM:-0500
TZOFFSETTO:-0400
TZNAME:EDT
DTSTART:20250309T070000
END:DAYLIGHT
BEGIN:STANDARD
TZOFFSETFROM:-0400
TZOFFSETTO:-0500
TZNAME:EST
DTSTART:20251102T060000
END:STANDARD
END:VTIMEZONE
BEGIN:VEVENT
DTSTART;TZID=America/Toronto:20240323T170000
DTEND;TZID=America/Toronto:20240323T233000
DTSTAMP:20260423T044337
CREATED:20240223T192112Z
LAST-MODIFIED:20240321T195903Z
UID:439313-1711213200-1711236600@www.chga.fm
SUMMARY:Souper Bénéfice - Souper Spaghetti
DESCRIPTION:Le samedi 23 mars 2024\, aura lieu un souper bénéfice au Centre Jean-Guy Prévost de Grand-Remous à 17h00 organisé par Marco Beaudoin \, Chantal Desjardins et leur équipe\,  pour venir en aide à Mme Marie-Paule Slater Langevin et sa sœur Lucille Langevin pour refaire creuser un puit. \nIl y aura tirage d’un ensemble de pêche d’une valeur de 300$. Des billets sont présentement en vente à la quincaillerie J.B. Lévesque de Grand-Remous et à la soirée aussi \, suivi d’un tirage de contribution volontaire \nMusique  de Dany Thibault . \nPrix pour le souper est une contribution volontaire de votre part. \nBienvenue à tous !!! \nPour informations 819 438-5212 ou  819 440-6834
URL:https://www.chga.fm/evenement/souper-benefice-souper-spaghetti/
LOCATION:QC\, Canada
END:VEVENT
END:VCALENDAR