BEGIN:VCALENDAR
VERSION:2.0
PRODID:-//CHGA - ECPv6.15.20//NONSGML v1.0//EN
CALSCALE:GREGORIAN
METHOD:PUBLISH
X-WR-CALNAME:CHGA
X-ORIGINAL-URL:https://www.chga.fm
X-WR-CALDESC:évènements pour CHGA
REFRESH-INTERVAL;VALUE=DURATION:PT1H
X-Robots-Tag:noindex
X-PUBLISHED-TTL:PT1H
BEGIN:VTIMEZONE
TZID:America/Toronto
BEGIN:DAYLIGHT
TZOFFSETFROM:-0500
TZOFFSETTO:-0400
TZNAME:EDT
DTSTART:20210314T070000
END:DAYLIGHT
BEGIN:STANDARD
TZOFFSETFROM:-0400
TZOFFSETTO:-0500
TZNAME:EST
DTSTART:20211107T060000
END:STANDARD
BEGIN:DAYLIGHT
TZOFFSETFROM:-0500
TZOFFSETTO:-0400
TZNAME:EDT
DTSTART:20220313T070000
END:DAYLIGHT
BEGIN:STANDARD
TZOFFSETFROM:-0400
TZOFFSETTO:-0500
TZNAME:EST
DTSTART:20221106T060000
END:STANDARD
BEGIN:DAYLIGHT
TZOFFSETFROM:-0500
TZOFFSETTO:-0400
TZNAME:EDT
DTSTART:20230312T070000
END:DAYLIGHT
BEGIN:STANDARD
TZOFFSETFROM:-0400
TZOFFSETTO:-0500
TZNAME:EST
DTSTART:20231105T060000
END:STANDARD
END:VTIMEZONE
BEGIN:VEVENT
DTSTART;TZID=America/Toronto:20221116T090000
DTEND;TZID=America/Toronto:20221116T153000
DTSTAMP:20260420T204439
CREATED:20221107T153712Z
LAST-MODIFIED:20221107T154231Z
UID:10018612-1668589200-1668612600@www.chga.fm
SUMMARY:Souper avec le Club de l'âge d'or de Déléage
DESCRIPTION:Le Club de l’âge d’or de Déléage vous invite au souper de Noël au coût de 27$ chaque\, qui aura lieu le vendredi 16 décembre 2022 à compter de 17h30. Les billets seront en ventes à compter du 9 novembre 2022 à tous les mercredis de 9 h 15 à 15 h 30 et les jeudis de 13 h à 15 h 30\, et ce\, jusqu’au 9 décembre 2022 au Club âge d’or de Déléage. \nPour toutes informations\, communiquez au 819 449-3969.
URL:https://www.chga.fm/evenement/souper-avec-le-club-de-lage-dor-de-deleage/2022-11-16/
LOCATION:QC\, Canada
END:VEVENT
END:VCALENDAR