BEGIN:VCALENDAR
VERSION:2.0
PRODID:-//CHGA - ECPv6.15.20//NONSGML v1.0//EN
CALSCALE:GREGORIAN
METHOD:PUBLISH
X-WR-CALNAME:CHGA
X-ORIGINAL-URL:https://www.chga.fm
X-WR-CALDESC:évènements pour CHGA
REFRESH-INTERVAL;VALUE=DURATION:PT1H
X-Robots-Tag:noindex
X-PUBLISHED-TTL:PT1H
BEGIN:VTIMEZONE
TZID:America/Toronto
BEGIN:DAYLIGHT
TZOFFSETFROM:-0500
TZOFFSETTO:-0400
TZNAME:EDT
DTSTART:20220313T070000
END:DAYLIGHT
BEGIN:STANDARD
TZOFFSETFROM:-0400
TZOFFSETTO:-0500
TZNAME:EST
DTSTART:20221106T060000
END:STANDARD
BEGIN:DAYLIGHT
TZOFFSETFROM:-0500
TZOFFSETTO:-0400
TZNAME:EDT
DTSTART:20230312T070000
END:DAYLIGHT
BEGIN:STANDARD
TZOFFSETFROM:-0400
TZOFFSETTO:-0500
TZNAME:EST
DTSTART:20231105T060000
END:STANDARD
BEGIN:DAYLIGHT
TZOFFSETFROM:-0500
TZOFFSETTO:-0400
TZNAME:EDT
DTSTART:20240310T070000
END:DAYLIGHT
BEGIN:STANDARD
TZOFFSETFROM:-0400
TZOFFSETTO:-0500
TZNAME:EST
DTSTART:20241103T060000
END:STANDARD
END:VTIMEZONE
BEGIN:VEVENT
DTSTART;TZID=America/Toronto:20230813T090000
DTEND;TZID=America/Toronto:20230813T103000
DTSTAMP:20260420T054452
CREATED:20230807T180146Z
LAST-MODIFIED:20230807T180146Z
UID:428186-1691917200-1691922600@www.chga.fm
SUMMARY:Souligne un ainé - La Communauté de Saint-Boniface
DESCRIPTION:La Communauté de Saint-Boniface soulignera un ainé dans sa communauté le dimanche 13 août 2023 à 9 h 15 à l’église Saint-Boniface de Bois-Franc. L’église sera décorée avec des fleurs de champs pour l’occasion. Pour plus d’informations\, communiquez avec Yves au 819 449-3056.
URL:https://www.chga.fm/evenement/souligne-un-aine-la-communaute-de-saint-boniface/
END:VEVENT
END:VCALENDAR