BEGIN:VCALENDAR
VERSION:2.0
PRODID:-//CHGA - ECPv6.15.20//NONSGML v1.0//EN
CALSCALE:GREGORIAN
METHOD:PUBLISH
X-WR-CALNAME:CHGA
X-ORIGINAL-URL:https://www.chga.fm
X-WR-CALDESC:évènements pour CHGA
REFRESH-INTERVAL;VALUE=DURATION:PT1H
X-Robots-Tag:noindex
X-PUBLISHED-TTL:PT1H
BEGIN:VTIMEZONE
TZID:America/Toronto
BEGIN:DAYLIGHT
TZOFFSETFROM:-0500
TZOFFSETTO:-0400
TZNAME:EDT
DTSTART:20210314T070000
END:DAYLIGHT
BEGIN:STANDARD
TZOFFSETFROM:-0400
TZOFFSETTO:-0500
TZNAME:EST
DTSTART:20211107T060000
END:STANDARD
BEGIN:DAYLIGHT
TZOFFSETFROM:-0500
TZOFFSETTO:-0400
TZNAME:EDT
DTSTART:20220313T070000
END:DAYLIGHT
BEGIN:STANDARD
TZOFFSETFROM:-0400
TZOFFSETTO:-0500
TZNAME:EST
DTSTART:20221106T060000
END:STANDARD
BEGIN:DAYLIGHT
TZOFFSETFROM:-0500
TZOFFSETTO:-0400
TZNAME:EDT
DTSTART:20230312T070000
END:DAYLIGHT
BEGIN:STANDARD
TZOFFSETFROM:-0400
TZOFFSETTO:-0500
TZNAME:EST
DTSTART:20231105T060000
END:STANDARD
END:VTIMEZONE
BEGIN:VEVENT
DTSTART;TZID=America/Toronto:20220422T190000
DTEND;TZID=America/Toronto:20220422T190000
DTSTAMP:20260421T081450
CREATED:20220321T193402Z
LAST-MODIFIED:20220420T123245Z
UID:398597-1650654000-1650654000@www.chga.fm
SUMMARY:Soirée d'improvisation la JAIME
DESCRIPTION:Cette semaine\, la JAIME présentera un match d’improvisation au pavillon des sports de Montcerf-Lytton  le vendredi 22 avril à 19h. L’entrée sera gratuite! Le match sera divisé en 2 périodes. Lors de la seconde période\, les spectateurs qui voudront se joindre à nous pourrons tenter leur chance sur scène. Que vous vouliez passer une belle soirée tranquille à vous amuser devant un bon spectacle ou que vous désiriez tenter votre chance sur scène avec les joueurs de la JAIME\, vous êtes les bienvenus. De plus\, le public aura la chance d’écrire des thèmes qui seront joués durant la soirée! \nVoici les prochains matchs de la JAIME : \n– Samedi 14 mai au Pavillon des artisans au Lac Sainte-Marie heure à 10h30 \n– Vendredi 20 mai au château Logue à 19h \nUne soirée à ne pas manquer
URL:https://www.chga.fm/evenement/soiree-dimprovisation-la-jaime-3/
LOCATION:montcerf-lytton
END:VEVENT
END:VCALENDAR