BEGIN:VCALENDAR
VERSION:2.0
PRODID:-//CHGA - ECPv6.15.20//NONSGML v1.0//EN
CALSCALE:GREGORIAN
METHOD:PUBLISH
X-WR-CALNAME:CHGA
X-ORIGINAL-URL:https://www.chga.fm
X-WR-CALDESC:évènements pour CHGA
REFRESH-INTERVAL;VALUE=DURATION:PT1H
X-Robots-Tag:noindex
X-PUBLISHED-TTL:PT1H
BEGIN:VTIMEZONE
TZID:America/Toronto
BEGIN:DAYLIGHT
TZOFFSETFROM:-0500
TZOFFSETTO:-0400
TZNAME:EDT
DTSTART:20190310T070000
END:DAYLIGHT
BEGIN:STANDARD
TZOFFSETFROM:-0400
TZOFFSETTO:-0500
TZNAME:EST
DTSTART:20191103T060000
END:STANDARD
BEGIN:DAYLIGHT
TZOFFSETFROM:-0500
TZOFFSETTO:-0400
TZNAME:EDT
DTSTART:20200308T070000
END:DAYLIGHT
BEGIN:STANDARD
TZOFFSETFROM:-0400
TZOFFSETTO:-0500
TZNAME:EST
DTSTART:20201101T060000
END:STANDARD
BEGIN:DAYLIGHT
TZOFFSETFROM:-0500
TZOFFSETTO:-0400
TZNAME:EDT
DTSTART:20210314T070000
END:DAYLIGHT
BEGIN:STANDARD
TZOFFSETFROM:-0400
TZOFFSETTO:-0500
TZNAME:EST
DTSTART:20211107T060000
END:STANDARD
END:VTIMEZONE
BEGIN:VEVENT
DTSTART;TZID=America/Toronto:20201130T080000
DTEND;TZID=America/Toronto:20201130T170000
DTSTAMP:20260422T092812
CREATED:20201130T151244Z
LAST-MODIFIED:20201130T151244Z
UID:373490-1606723200-1606755600@www.chga.fm
SUMMARY:Société Alzheimer Outaouais  / Défi 35
DESCRIPTION:La société d’Alzheimer Outaouais souhaite\, cette année\,  amasser la somme de 35 000 $ dans le cadre de notre campagne de collecte de dons Défi 35. \nGrâce à la précieuse collaboration de la Clinique Mémoire Outaouais\, tous les dons reçus seront jumelés. \nL’atteinte de notre objectif nous permettra d’offrir l’équivalent de 1 165 heures de soutien aux familles en Outaouais. \nVous avez jusqu’au 31 décembre 2020 pour doubler votre impact de manière positive dans la vie de ces milliers de gens. \nVous pouvez effectuer un don directement sur notre site internet  ou en nous faisant parvenir un chèque par la poste ou le déposer directement à la SAO\, \nau 440 boul. Maloney O\, Gatineau\,Qc J8P6W2 \nC’est avec beaucoup d’espoir que nous demandons votre soutien.
URL:https://www.chga.fm/evenement/societe-alzheimer-outaouais-defi-35/
LOCATION:Société Alzheimer Outaouais\, 440 boul Maloney Ouest\, Gatineau\, QC\, J8P6W2\, Canada
END:VEVENT
END:VCALENDAR