BEGIN:VCALENDAR
VERSION:2.0
PRODID:-//CHGA - ECPv6.15.20//NONSGML v1.0//EN
CALSCALE:GREGORIAN
METHOD:PUBLISH
X-WR-CALNAME:CHGA
X-ORIGINAL-URL:https://www.chga.fm
X-WR-CALDESC:évènements pour CHGA
REFRESH-INTERVAL;VALUE=DURATION:PT1H
X-Robots-Tag:noindex
X-PUBLISHED-TTL:PT1H
BEGIN:VTIMEZONE
TZID:America/Toronto
BEGIN:DAYLIGHT
TZOFFSETFROM:-0500
TZOFFSETTO:-0400
TZNAME:EDT
DTSTART:20250309T070000
END:DAYLIGHT
BEGIN:STANDARD
TZOFFSETFROM:-0400
TZOFFSETTO:-0500
TZNAME:EST
DTSTART:20251102T060000
END:STANDARD
BEGIN:DAYLIGHT
TZOFFSETFROM:-0500
TZOFFSETTO:-0400
TZNAME:EDT
DTSTART:20260308T070000
END:DAYLIGHT
BEGIN:STANDARD
TZOFFSETFROM:-0400
TZOFFSETTO:-0500
TZNAME:EST
DTSTART:20261101T060000
END:STANDARD
BEGIN:DAYLIGHT
TZOFFSETFROM:-0500
TZOFFSETTO:-0400
TZNAME:EDT
DTSTART:20270314T070000
END:DAYLIGHT
BEGIN:STANDARD
TZOFFSETFROM:-0400
TZOFFSETTO:-0500
TZNAME:EST
DTSTART:20271107T060000
END:STANDARD
END:VTIMEZONE
BEGIN:VEVENT
DTSTART;TZID=America/Toronto:20260330T093000
DTEND;TZID=America/Toronto:20260330T153000
DTSTAMP:20260424T153643
CREATED:20260220T141627Z
LAST-MODIFIED:20260220T141627Z
UID:10019802-1774863000-1774884600@www.chga.fm
SUMMARY:Service d'aide à l'impôt - ASEC VG
DESCRIPTION:L’ASEC offre le service d’aide à l’impôt de l’ASEC\, pour les personnes à faible ou à modeste revenu. Le service débute le lundi 2 mars 2026. \nVous vous présentez sans rendez-vous ou sur rendez-vous au 248\, rue Cartier à Maniwaki au bureau 153\, les lundis\, mardis ou mercredis\, de 9 h 30 à 15 h 30 (fermé de 12 h à 13 h). \nPour connaître les critères d’admissibilités\, contactez l’ASEC au 819 449-6779 ou visitez leur page Facebook. \n*** maintenant gratuit pour tous les ménages admissibles! ***
URL:https://www.chga.fm/evenement/service-daide-a-limpot-asec-vg/2026-03-30/
LOCATION:QC\, Canada
END:VEVENT
END:VCALENDAR