BEGIN:VCALENDAR
VERSION:2.0
PRODID:-//CHGA - ECPv6.15.20//NONSGML v1.0//EN
CALSCALE:GREGORIAN
METHOD:PUBLISH
X-WR-CALNAME:CHGA
X-ORIGINAL-URL:https://www.chga.fm
X-WR-CALDESC:évènements pour CHGA
REFRESH-INTERVAL;VALUE=DURATION:PT1H
X-Robots-Tag:noindex
X-PUBLISHED-TTL:PT1H
BEGIN:VTIMEZONE
TZID:America/Toronto
BEGIN:DAYLIGHT
TZOFFSETFROM:-0500
TZOFFSETTO:-0400
TZNAME:EDT
DTSTART:20190310T070000
END:DAYLIGHT
BEGIN:STANDARD
TZOFFSETFROM:-0400
TZOFFSETTO:-0500
TZNAME:EST
DTSTART:20191103T060000
END:STANDARD
BEGIN:DAYLIGHT
TZOFFSETFROM:-0500
TZOFFSETTO:-0400
TZNAME:EDT
DTSTART:20200308T070000
END:DAYLIGHT
BEGIN:STANDARD
TZOFFSETFROM:-0400
TZOFFSETTO:-0500
TZNAME:EST
DTSTART:20201101T060000
END:STANDARD
BEGIN:DAYLIGHT
TZOFFSETFROM:-0500
TZOFFSETTO:-0400
TZNAME:EDT
DTSTART:20210314T070000
END:DAYLIGHT
BEGIN:STANDARD
TZOFFSETFROM:-0400
TZOFFSETTO:-0500
TZNAME:EST
DTSTART:20211107T060000
END:STANDARD
END:VTIMEZONE
BEGIN:VEVENT
DTSTART;TZID=America/Toronto:20201103T130000
DTEND;TZID=America/Toronto:20201103T143000
DTSTAMP:20260422T111856
CREATED:20201026T154939Z
LAST-MODIFIED:20201026T160200Z
UID:371476-1604408400-1604413800@www.chga.fm
SUMMARY:Semaine nationale des proches aidants
DESCRIPTION:Mme Linda Coté\, naturothérapeute viendra donner une conférence de 90 min sur  COMMENT ÉVITÉ DE SÉPUISER SANS CULPABILITÉ EN PRENANT SOIN DE SOI.LIEU : Château Logue\, 12 rue Comeau\, Maniwaki ou en virtuel (zoom) 819-441-1001 \nHEURE : 13h00 \nÉvènement gratuit  \n N’oubliez pas de passer au 248 rue Cartier pour venir chercher votre macaron et si nous tombons en zone rouge les activités seront en virtuel seulement.
URL:https://www.chga.fm/evenement/semaine-nationale-des-proches-aidants/
LOCATION:Château Logue Maniwaki\, 12 Rue Comeau\, Maniwaki\, QC\, J9E 2R8\, Canada
END:VEVENT
END:VCALENDAR