BEGIN:VCALENDAR
VERSION:2.0
PRODID:-//CHGA - ECPv6.15.20//NONSGML v1.0//EN
CALSCALE:GREGORIAN
METHOD:PUBLISH
X-WR-CALNAME:CHGA
X-ORIGINAL-URL:https://www.chga.fm
X-WR-CALDESC:évènements pour CHGA
REFRESH-INTERVAL;VALUE=DURATION:PT1H
X-Robots-Tag:noindex
X-PUBLISHED-TTL:PT1H
BEGIN:VTIMEZONE
TZID:America/Toronto
BEGIN:DAYLIGHT
TZOFFSETFROM:-0500
TZOFFSETTO:-0400
TZNAME:EDT
DTSTART:20200308T070000
END:DAYLIGHT
BEGIN:STANDARD
TZOFFSETFROM:-0400
TZOFFSETTO:-0500
TZNAME:EST
DTSTART:20201101T060000
END:STANDARD
BEGIN:DAYLIGHT
TZOFFSETFROM:-0500
TZOFFSETTO:-0400
TZNAME:EDT
DTSTART:20210314T070000
END:DAYLIGHT
BEGIN:STANDARD
TZOFFSETFROM:-0400
TZOFFSETTO:-0500
TZNAME:EST
DTSTART:20211107T060000
END:STANDARD
BEGIN:DAYLIGHT
TZOFFSETFROM:-0500
TZOFFSETTO:-0400
TZNAME:EDT
DTSTART:20220313T070000
END:DAYLIGHT
BEGIN:STANDARD
TZOFFSETFROM:-0400
TZOFFSETTO:-0500
TZNAME:EST
DTSTART:20221106T060000
END:STANDARD
END:VTIMEZONE
BEGIN:VEVENT
DTSTART;TZID=America/Toronto:20210417T183000
DTEND;TZID=America/Toronto:20210417T183000
DTSTAMP:20260422T032620
CREATED:20210413T135711Z
LAST-MODIFIED:20210414T121131Z
UID:10015881-1618684200-1618684200@www.chga.fm
SUMMARY:Sainte-Marie-de-l'Incarnation - Messes
DESCRIPTION:2 messes auront lieues en fin de semaine à Gracefield: \n– Samedi à 18 h 30 \n– Dimanche à 11 h 00 \nUne limite de 25 personnes par célébration doit être respectée. Il est donc obligatoire de s’inscrire. \nPour se faire\, contactez Gilles Lafond au 819 463-2098.
URL:https://www.chga.fm/evenement/sainte-marie-de-lincarnation-messe/2021-04-17/
LOCATION:QC\, Canada
END:VEVENT
END:VCALENDAR