BEGIN:VCALENDAR
VERSION:2.0
PRODID:-//CHGA - ECPv6.15.20//NONSGML v1.0//EN
CALSCALE:GREGORIAN
METHOD:PUBLISH
X-WR-CALNAME:CHGA
X-ORIGINAL-URL:https://www.chga.fm
X-WR-CALDESC:évènements pour CHGA
REFRESH-INTERVAL;VALUE=DURATION:PT1H
X-Robots-Tag:noindex
X-PUBLISHED-TTL:PT1H
BEGIN:VTIMEZONE
TZID:America/Toronto
BEGIN:DAYLIGHT
TZOFFSETFROM:-0500
TZOFFSETTO:-0400
TZNAME:EDT
DTSTART:20190310T070000
END:DAYLIGHT
BEGIN:STANDARD
TZOFFSETFROM:-0400
TZOFFSETTO:-0500
TZNAME:EST
DTSTART:20191103T060000
END:STANDARD
BEGIN:DAYLIGHT
TZOFFSETFROM:-0500
TZOFFSETTO:-0400
TZNAME:EDT
DTSTART:20200308T070000
END:DAYLIGHT
BEGIN:STANDARD
TZOFFSETFROM:-0400
TZOFFSETTO:-0500
TZNAME:EST
DTSTART:20201101T060000
END:STANDARD
BEGIN:DAYLIGHT
TZOFFSETFROM:-0500
TZOFFSETTO:-0400
TZNAME:EDT
DTSTART:20210314T070000
END:DAYLIGHT
BEGIN:STANDARD
TZOFFSETFROM:-0400
TZOFFSETTO:-0500
TZNAME:EST
DTSTART:20211107T060000
END:STANDARD
END:VTIMEZONE
BEGIN:VEVENT
DTSTART;TZID=America/Toronto:20201221T000000
DTEND;TZID=America/Toronto:20201221T230000
DTSTAMP:20260422T094004
CREATED:20201216T184527Z
LAST-MODIFIED:20201217T162357Z
UID:10015817-1608508800-1608591600@www.chga.fm
SUMMARY:Sainte-Marie de l'Incarnation Gracefield - Messe de la veille de Noël et de Noël
DESCRIPTION:Si vous êtes intéressés à venir célébrer la messe de la veille de noël\, et Noël\, il est PRIMORDIAL ET OBLIGATOIRE de réserver votre place aux endroits suivants. \nCapacité maximale de 25 paroissiens par célébrations \n–      Blue Sea : le 24 décembre 16h00 et 20h30\, Jean-Marc : 463-2327 \n–      Bouchette : le 24 décembre 18h00 et 22h00\, Pierrette : 465-1919 / 334-5011 \n–      Cayamant : le 24 décembre 20h30\, Denise : 463-3882 \n–      Gracefield : le 24 décembre 18h00 et 22h00\, Gilles : 463-2098 et le 25 décembre 9h30 et 11h00\, Gilles : 463-2098
URL:https://www.chga.fm/evenement/sainte-marie-de-lincarnation-gracefield-messe-de-la-veille-de-noel-et-de-noel/2020-12-21/
LOCATION:QC\, Canada
END:VEVENT
END:VCALENDAR