BEGIN:VCALENDAR
VERSION:2.0
PRODID:-//CHGA - ECPv6.15.20//NONSGML v1.0//EN
CALSCALE:GREGORIAN
METHOD:PUBLISH
X-WR-CALNAME:CHGA
X-ORIGINAL-URL:https://www.chga.fm
X-WR-CALDESC:évènements pour CHGA
REFRESH-INTERVAL;VALUE=DURATION:PT1H
X-Robots-Tag:noindex
X-PUBLISHED-TTL:PT1H
BEGIN:VTIMEZONE
TZID:America/Toronto
BEGIN:DAYLIGHT
TZOFFSETFROM:-0500
TZOFFSETTO:-0400
TZNAME:EDT
DTSTART:20200308T070000
END:DAYLIGHT
BEGIN:STANDARD
TZOFFSETFROM:-0400
TZOFFSETTO:-0500
TZNAME:EST
DTSTART:20201101T060000
END:STANDARD
BEGIN:DAYLIGHT
TZOFFSETFROM:-0500
TZOFFSETTO:-0400
TZNAME:EDT
DTSTART:20210314T070000
END:DAYLIGHT
BEGIN:STANDARD
TZOFFSETFROM:-0400
TZOFFSETTO:-0500
TZNAME:EST
DTSTART:20211107T060000
END:STANDARD
BEGIN:DAYLIGHT
TZOFFSETFROM:-0500
TZOFFSETTO:-0400
TZNAME:EDT
DTSTART:20220313T070000
END:DAYLIGHT
BEGIN:STANDARD
TZOFFSETFROM:-0400
TZOFFSETTO:-0500
TZNAME:EST
DTSTART:20221106T060000
END:STANDARD
END:VTIMEZONE
BEGIN:VEVENT
DTSTART;TZID=America/Toronto:20211110T160000
DTEND;TZID=America/Toronto:20211110T200000
DTSTAMP:20260421T165257
CREATED:20211027T150733Z
LAST-MODIFIED:20211027T150733Z
UID:10016125-1636560000-1636574400@www.chga.fm
SUMMARY:Sainte-Marie de l’Incarnation Gracefield – Bingo
DESCRIPTION:Le bingo du mercredi soir reprendra ses activités à compter du 3 novembre prochain au 46\, rue St-Joseph à Gracefield. Les portes ouvriront à 16 h 00 et le bingo débutera à 18 h 45. Il y aura une cantine sur place. \nLa salle peut accueillir 92 personnes. Aucune réservation n’est permise. \nLe passeport vaccinal est obligatoire et le masque est requis en tout temps\, sauf une fois assis. \nPour plus d’information\, contactez Madame Claudette Thériaut au 819 463-2072 ou Monsieur Gilles Lafond au 819 463-2098. \nTous les profits du bingo seront remis à l’Église de Gracefield.
URL:https://www.chga.fm/evenement/sainte-marie-de-lincarnation-gracefield-bingo/2021-11-10/
END:VEVENT
END:VCALENDAR