BEGIN:VCALENDAR
VERSION:2.0
PRODID:-//CHGA - ECPv6.15.20//NONSGML v1.0//EN
CALSCALE:GREGORIAN
METHOD:PUBLISH
X-WR-CALNAME:CHGA
X-ORIGINAL-URL:https://www.chga.fm
X-WR-CALDESC:évènements pour CHGA
REFRESH-INTERVAL;VALUE=DURATION:PT1H
X-Robots-Tag:noindex
X-PUBLISHED-TTL:PT1H
BEGIN:VTIMEZONE
TZID:America/Toronto
BEGIN:DAYLIGHT
TZOFFSETFROM:-0500
TZOFFSETTO:-0400
TZNAME:EDT
DTSTART:20200308T070000
END:DAYLIGHT
BEGIN:STANDARD
TZOFFSETFROM:-0400
TZOFFSETTO:-0500
TZNAME:EST
DTSTART:20201101T060000
END:STANDARD
BEGIN:DAYLIGHT
TZOFFSETFROM:-0500
TZOFFSETTO:-0400
TZNAME:EDT
DTSTART:20210314T070000
END:DAYLIGHT
BEGIN:STANDARD
TZOFFSETFROM:-0400
TZOFFSETTO:-0500
TZNAME:EST
DTSTART:20211107T060000
END:STANDARD
BEGIN:DAYLIGHT
TZOFFSETFROM:-0500
TZOFFSETTO:-0400
TZNAME:EDT
DTSTART:20220313T070000
END:DAYLIGHT
BEGIN:STANDARD
TZOFFSETFROM:-0400
TZOFFSETTO:-0500
TZNAME:EST
DTSTART:20221106T060000
END:STANDARD
END:VTIMEZONE
BEGIN:VEVENT
DTSTART;TZID=America/Toronto:20210608T120000
DTEND;TZID=America/Toronto:20210608T170000
DTSTAMP:20260422T003651
CREATED:20210527T171710Z
LAST-MODIFIED:20210527T171710Z
UID:381978-1623153600-1623171600@www.chga.fm
SUMMARY:SADC Vallée-de-la-Gatineau - Assemblée générale annuelle virtuelle
DESCRIPTION:Nous avons le plaisir de vous inviter à assister à l’assemblée générale annuelle virtuelle de la SADC Vallée-de-la-Gatineau qui aura lieu le mardi 8 juin 2021 à 12 h 00 via la plateforme Zoom. \nAprès l’assemblée\, nous présenterons notre projet « Démystifier la Vallée-de-la-Gatineau » sur lequel nous travaillerons au cours des prochaines années. \nPour vous inscrire\, contactez Madame Josée Croteau au 819 449-1551 ou à info@sadc-vg.ca afin de recevoir votre lien de connexion.
URL:https://www.chga.fm/evenement/sadc-vallee-de-la-gatineau-assemblee-generale-annuelle-virtuelle/
LOCATION:QC\, Canada
END:VEVENT
END:VCALENDAR