BEGIN:VCALENDAR
VERSION:2.0
PRODID:-//CHGA - ECPv6.15.20//NONSGML v1.0//EN
CALSCALE:GREGORIAN
METHOD:PUBLISH
X-WR-CALNAME:CHGA
X-ORIGINAL-URL:https://www.chga.fm
X-WR-CALDESC:évènements pour CHGA
REFRESH-INTERVAL;VALUE=DURATION:PT1H
X-Robots-Tag:noindex
X-PUBLISHED-TTL:PT1H
BEGIN:VTIMEZONE
TZID:America/Toronto
BEGIN:DAYLIGHT
TZOFFSETFROM:-0500
TZOFFSETTO:-0400
TZNAME:EDT
DTSTART:20210314T070000
END:DAYLIGHT
BEGIN:STANDARD
TZOFFSETFROM:-0400
TZOFFSETTO:-0500
TZNAME:EST
DTSTART:20211107T060000
END:STANDARD
BEGIN:DAYLIGHT
TZOFFSETFROM:-0500
TZOFFSETTO:-0400
TZNAME:EDT
DTSTART:20220313T070000
END:DAYLIGHT
BEGIN:STANDARD
TZOFFSETFROM:-0400
TZOFFSETTO:-0500
TZNAME:EST
DTSTART:20221106T060000
END:STANDARD
BEGIN:DAYLIGHT
TZOFFSETFROM:-0500
TZOFFSETTO:-0400
TZNAME:EDT
DTSTART:20230312T070000
END:DAYLIGHT
BEGIN:STANDARD
TZOFFSETFROM:-0400
TZOFFSETTO:-0500
TZNAME:EST
DTSTART:20231105T060000
END:STANDARD
END:VTIMEZONE
BEGIN:VEVENT
DTSTART;TZID=America/Toronto:20220514T090000
DTEND;TZID=America/Toronto:20220514T090000
DTSTAMP:20260421T051931
CREATED:20220504T175348Z
LAST-MODIFIED:20220504T180054Z
UID:401287-1652518800-1652518800@www.chga.fm
SUMMARY:Rodéo Cycliste
DESCRIPTION:Le Rodéo Cycliste\, une collaboration du Club optimiste Déléage et de la table de développement social de la Vallée-de-la-Gatineau\, sera de retour le 14 mai 2022 pour les enfants de Déléage âgé de 0 à 12 ans. L’activité se déroulera à l’Épicerie 4 fourches à partir de 9h. 5 vélos seront tirés. De plus\, il y aura des petites collations sur place. Nous avons hâte de vous revoir. \nPour plus d’informations\, téléphonez Bill au 819 334-1427.
URL:https://www.chga.fm/evenement/rodeo-cycliste/
LOCATION:QC\, Canada
END:VEVENT
END:VCALENDAR