BEGIN:VCALENDAR
VERSION:2.0
PRODID:-//CHGA - ECPv6.15.20//NONSGML v1.0//EN
CALSCALE:GREGORIAN
METHOD:PUBLISH
X-WR-CALNAME:CHGA
X-ORIGINAL-URL:https://www.chga.fm
X-WR-CALDESC:évènements pour CHGA
REFRESH-INTERVAL;VALUE=DURATION:PT1H
X-Robots-Tag:noindex
X-PUBLISHED-TTL:PT1H
BEGIN:VTIMEZONE
TZID:America/Toronto
BEGIN:DAYLIGHT
TZOFFSETFROM:-0500
TZOFFSETTO:-0400
TZNAME:EDT
DTSTART:20210314T070000
END:DAYLIGHT
BEGIN:STANDARD
TZOFFSETFROM:-0400
TZOFFSETTO:-0500
TZNAME:EST
DTSTART:20211107T060000
END:STANDARD
BEGIN:DAYLIGHT
TZOFFSETFROM:-0500
TZOFFSETTO:-0400
TZNAME:EDT
DTSTART:20220313T070000
END:DAYLIGHT
BEGIN:STANDARD
TZOFFSETFROM:-0400
TZOFFSETTO:-0500
TZNAME:EST
DTSTART:20221106T060000
END:STANDARD
BEGIN:DAYLIGHT
TZOFFSETFROM:-0500
TZOFFSETTO:-0400
TZNAME:EDT
DTSTART:20230312T070000
END:DAYLIGHT
BEGIN:STANDARD
TZOFFSETFROM:-0400
TZOFFSETTO:-0500
TZNAME:EST
DTSTART:20231105T060000
END:STANDARD
END:VTIMEZONE
BEGIN:VEVENT
DTSTART;TZID=America/Toronto:20220504T110000
DTEND;TZID=America/Toronto:20220504T130000
DTSTAMP:20260421T061933
CREATED:20220426T130808Z
LAST-MODIFIED:20220426T130808Z
UID:400738-1651662000-1651669200@www.chga.fm
SUMMARY:Réunion Les Filles D'Isabelle de Maniwaki
DESCRIPTION:Mercredi le 4 mai prochain\, il y aura une messe à 11h suivi du diner\, vous devez apporter votre repas. La réunion se déroulera à 13h à l’Église de Gracefield. Pour plus d’informations vous pouvez communiquer avec Léonna Clément au 819-463-2825.
URL:https://www.chga.fm/evenement/reunion-les-filles-disabelle-de-maniwaki/
LOCATION:Paroisse la Visitation de Gracefield\, 14\, rue Principale\, Gracefield\, QC\, J0X 1W0\, Canada
END:VEVENT
END:VCALENDAR