BEGIN:VCALENDAR
VERSION:2.0
PRODID:-//CHGA - ECPv6.15.20//NONSGML v1.0//EN
CALSCALE:GREGORIAN
METHOD:PUBLISH
X-WR-CALNAME:CHGA
X-ORIGINAL-URL:https://www.chga.fm
X-WR-CALDESC:évènements pour CHGA
REFRESH-INTERVAL;VALUE=DURATION:PT1H
X-Robots-Tag:noindex
X-PUBLISHED-TTL:PT1H
BEGIN:VTIMEZONE
TZID:America/Toronto
BEGIN:DAYLIGHT
TZOFFSETFROM:-0500
TZOFFSETTO:-0400
TZNAME:EDT
DTSTART:20220313T070000
END:DAYLIGHT
BEGIN:STANDARD
TZOFFSETFROM:-0400
TZOFFSETTO:-0500
TZNAME:EST
DTSTART:20221106T060000
END:STANDARD
BEGIN:DAYLIGHT
TZOFFSETFROM:-0500
TZOFFSETTO:-0400
TZNAME:EDT
DTSTART:20230312T070000
END:DAYLIGHT
BEGIN:STANDARD
TZOFFSETFROM:-0400
TZOFFSETTO:-0500
TZNAME:EST
DTSTART:20231105T060000
END:STANDARD
BEGIN:DAYLIGHT
TZOFFSETFROM:-0500
TZOFFSETTO:-0400
TZNAME:EDT
DTSTART:20240310T070000
END:DAYLIGHT
BEGIN:STANDARD
TZOFFSETFROM:-0400
TZOFFSETTO:-0500
TZNAME:EST
DTSTART:20241103T060000
END:STANDARD
END:VTIMEZONE
BEGIN:VEVENT
DTSTART;TZID=America/Toronto:20230527T130000
DTEND;TZID=America/Toronto:20230527T170000
DTSTAMP:20260420T114431
CREATED:20230519T152858Z
LAST-MODIFIED:20230519T153326Z
UID:423997-1685192400-1685206800@www.chga.fm
SUMMARY:Rassemblement pacifique - Association des parents et grands-parents de l'Outaouais
DESCRIPTION:L’association des parents et grands-parents de l’Outaouais vous invite à un rassemblement pacifique \ndans le but de dénoncer les injustices sociales au niveau de la protection de la jeunesse \, \nle samedi 27 mai 2023 à 13h00 devant le palais de justice de Gatineau\, 17 rue Laurier à Gatineau\, secteur Hull. \nPour de plus amples informations\, contactez Chantal 819 592-1643. 
URL:https://www.chga.fm/evenement/rassemblement-pacifique-association-des-parents-et-grands-parents-de-loutaouais/
LOCATION:QC\, Canada
END:VEVENT
END:VCALENDAR