BEGIN:VCALENDAR
VERSION:2.0
PRODID:-//CHGA - ECPv6.15.20//NONSGML v1.0//EN
CALSCALE:GREGORIAN
METHOD:PUBLISH
X-WR-CALNAME:CHGA
X-ORIGINAL-URL:https://www.chga.fm
X-WR-CALDESC:évènements pour CHGA
REFRESH-INTERVAL;VALUE=DURATION:PT1H
X-Robots-Tag:noindex
X-PUBLISHED-TTL:PT1H
BEGIN:VTIMEZONE
TZID:America/Toronto
BEGIN:DAYLIGHT
TZOFFSETFROM:-0500
TZOFFSETTO:-0400
TZNAME:EDT
DTSTART:20210314T070000
END:DAYLIGHT
BEGIN:STANDARD
TZOFFSETFROM:-0400
TZOFFSETTO:-0500
TZNAME:EST
DTSTART:20211107T060000
END:STANDARD
BEGIN:DAYLIGHT
TZOFFSETFROM:-0500
TZOFFSETTO:-0400
TZNAME:EDT
DTSTART:20220313T070000
END:DAYLIGHT
BEGIN:STANDARD
TZOFFSETFROM:-0400
TZOFFSETTO:-0500
TZNAME:EST
DTSTART:20221106T060000
END:STANDARD
BEGIN:DAYLIGHT
TZOFFSETFROM:-0500
TZOFFSETTO:-0400
TZNAME:EDT
DTSTART:20230312T070000
END:DAYLIGHT
BEGIN:STANDARD
TZOFFSETFROM:-0400
TZOFFSETTO:-0500
TZNAME:EST
DTSTART:20231105T060000
END:STANDARD
END:VTIMEZONE
BEGIN:VEVENT
DTSTART;TZID=America/Toronto:20220219T080000
DTEND;TZID=America/Toronto:20220219T170000
DTSTAMP:20260421T110643
CREATED:20220217T161332Z
LAST-MODIFIED:20220217T161332Z
UID:10016236-1645257600-1645290000@www.chga.fm
SUMMARY:Randonnée D'Autoneige de Maniwaki - L'Auberge du Draveur et le Resto Pub le Rabaska
DESCRIPTION:L’Auberge du Draveur et le Resto Pub le Rabaska présentent la première édition de la Randonnée D’Autoneige de Maniwaki \nLes 18-19 et 20 février 2022\,  venez admirer ces magnifiques machines du temps !! \nDes propriétaires de partout seront à Maniwaki afin de vous faire admirer leurs autoneiges et en profiteront également pour faire des Randonnées. \nVous pourrez les voir à l’avant de L’Auberge du Draveur le vendredi 18 février en soirée. \nLe samedi 19 février en fin d’après-midi et en soirée à L’auberge après leur randonnée pour le dîner à Gracefield chez Resto Frites chez Martin.   \nÀ noter que le dimanche 20 février la  randonnée qui devait avoir lieu au Mont-Morrissette de Blue Sea se fera à L’Érablière le Domaine du Cerf de Blue Sea et ce pour le dîner. \nPour plus d’informations M. Jocelyn Saumure\, organisateur au 819-664-4175 ou l’Auberge du Draveur au 449-7022.
URL:https://www.chga.fm/evenement/randonnee-dautoneige-de-maniwaki-lauberge-du-draveur-et-le-resto-pub-le-rabaska/2022-02-19/
LOCATION:Auberge du draveur\, 85\, rue Principale Nord\, Maniwaki\, QC\, J9E 2B5\, Canada
END:VEVENT
END:VCALENDAR