BEGIN:VCALENDAR
VERSION:2.0
PRODID:-//CHGA - ECPv6.15.20//NONSGML v1.0//EN
CALSCALE:GREGORIAN
METHOD:PUBLISH
X-WR-CALNAME:CHGA
X-ORIGINAL-URL:https://www.chga.fm
X-WR-CALDESC:évènements pour CHGA
REFRESH-INTERVAL;VALUE=DURATION:PT1H
X-Robots-Tag:noindex
X-PUBLISHED-TTL:PT1H
BEGIN:VTIMEZONE
TZID:America/Toronto
BEGIN:DAYLIGHT
TZOFFSETFROM:-0500
TZOFFSETTO:-0400
TZNAME:EDT
DTSTART:20200308T070000
END:DAYLIGHT
BEGIN:STANDARD
TZOFFSETFROM:-0400
TZOFFSETTO:-0500
TZNAME:EST
DTSTART:20201101T060000
END:STANDARD
BEGIN:DAYLIGHT
TZOFFSETFROM:-0500
TZOFFSETTO:-0400
TZNAME:EDT
DTSTART:20210314T070000
END:DAYLIGHT
BEGIN:STANDARD
TZOFFSETFROM:-0400
TZOFFSETTO:-0500
TZNAME:EST
DTSTART:20211107T060000
END:STANDARD
BEGIN:DAYLIGHT
TZOFFSETFROM:-0500
TZOFFSETTO:-0400
TZNAME:EDT
DTSTART:20220313T070000
END:DAYLIGHT
BEGIN:STANDARD
TZOFFSETFROM:-0400
TZOFFSETTO:-0500
TZNAME:EST
DTSTART:20221106T060000
END:STANDARD
END:VTIMEZONE
BEGIN:VEVENT
DTSTART;VALUE=DATE:20210415
DTEND;VALUE=DATE:20210416
DTSTAMP:20260422T020514
CREATED:20210414T153829Z
LAST-MODIFIED:20210414T153829Z
UID:379817-1618444800-1618531199@www.chga.fm
SUMMARY:Radio CHGA - Fermeture des bureaux
DESCRIPTION:En raison des mesures gouvernementales émises par Legault en lien avec la COVID-19\, nos bureaux seront fermés au public à compter de jeudi le 15 avril 2021. \nSachez cependant que les activités de bingo continueront malgré tout. Vous pourrez donc vous procurer des cartes chez les commerçants participants du coin. \nAu besoin\, visitez notre site Internet : www.chga.fm/bingo pour voir la liste des dépositaires. \nMerci de votre habituelle compréhension.
URL:https://www.chga.fm/evenement/radio-chga-fermeture-des-bureaux/
LOCATION:QC\, Canada
END:VEVENT
END:VCALENDAR