BEGIN:VCALENDAR
VERSION:2.0
PRODID:-//CHGA - ECPv6.15.20//NONSGML v1.0//EN
CALSCALE:GREGORIAN
METHOD:PUBLISH
X-WR-CALNAME:CHGA
X-ORIGINAL-URL:https://www.chga.fm
X-WR-CALDESC:évènements pour CHGA
REFRESH-INTERVAL;VALUE=DURATION:PT1H
X-Robots-Tag:noindex
X-PUBLISHED-TTL:PT1H
BEGIN:VTIMEZONE
TZID:America/Toronto
BEGIN:DAYLIGHT
TZOFFSETFROM:-0500
TZOFFSETTO:-0400
TZNAME:EDT
DTSTART:20220313T070000
END:DAYLIGHT
BEGIN:STANDARD
TZOFFSETFROM:-0400
TZOFFSETTO:-0500
TZNAME:EST
DTSTART:20221106T060000
END:STANDARD
BEGIN:DAYLIGHT
TZOFFSETFROM:-0500
TZOFFSETTO:-0400
TZNAME:EDT
DTSTART:20230312T070000
END:DAYLIGHT
BEGIN:STANDARD
TZOFFSETFROM:-0400
TZOFFSETTO:-0500
TZNAME:EST
DTSTART:20231105T060000
END:STANDARD
BEGIN:DAYLIGHT
TZOFFSETFROM:-0500
TZOFFSETTO:-0400
TZNAME:EDT
DTSTART:20240310T070000
END:DAYLIGHT
BEGIN:STANDARD
TZOFFSETFROM:-0400
TZOFFSETTO:-0500
TZNAME:EST
DTSTART:20241103T060000
END:STANDARD
END:VTIMEZONE
BEGIN:VEVENT
DTSTART;TZID=America/Toronto:20230629T130000
DTEND;TZID=America/Toronto:20230629T160000
DTSTAMP:20260420T071751
CREATED:20230628T200135Z
LAST-MODIFIED:20230628T200213Z
UID:426283-1688043600-1688054400@www.chga.fm
SUMMARY:Pickleball
DESCRIPTION:Le Pickleball débarque en force en Haute-Gatineau Journée découverte PICKLEBALL\, jeux d’adresse\, surprises Pour tous\, de 7 ans à 107 ans Messines Jeudi le 29 juin 9h-12h\, À la patinoire municipale\, 70 rue Principale\, Messines Blue Sea Jeudi le 29 juin 13h-16h\, À la patinoire municipale\, 10 rue Principale\, Blue Sea Le pickleball peut être joué par des personnes de tous âges et de tous les niveaux de forme physique. Le tout est gratuit|
URL:https://www.chga.fm/evenement/pickleball/
LOCATION:QC\, Canada
END:VEVENT
END:VCALENDAR