BEGIN:VCALENDAR
VERSION:2.0
PRODID:-//CHGA - ECPv6.15.20//NONSGML v1.0//EN
CALSCALE:GREGORIAN
METHOD:PUBLISH
X-WR-CALNAME:CHGA
X-ORIGINAL-URL:https://www.chga.fm
X-WR-CALDESC:évènements pour CHGA
REFRESH-INTERVAL;VALUE=DURATION:PT1H
X-Robots-Tag:noindex
X-PUBLISHED-TTL:PT1H
BEGIN:VTIMEZONE
TZID:America/Toronto
BEGIN:DAYLIGHT
TZOFFSETFROM:-0500
TZOFFSETTO:-0400
TZNAME:EDT
DTSTART:20190310T070000
END:DAYLIGHT
BEGIN:STANDARD
TZOFFSETFROM:-0400
TZOFFSETTO:-0500
TZNAME:EST
DTSTART:20191103T060000
END:STANDARD
BEGIN:DAYLIGHT
TZOFFSETFROM:-0500
TZOFFSETTO:-0400
TZNAME:EDT
DTSTART:20200308T070000
END:DAYLIGHT
BEGIN:STANDARD
TZOFFSETFROM:-0400
TZOFFSETTO:-0500
TZNAME:EST
DTSTART:20201101T060000
END:STANDARD
BEGIN:DAYLIGHT
TZOFFSETFROM:-0500
TZOFFSETTO:-0400
TZNAME:EDT
DTSTART:20210314T070000
END:DAYLIGHT
BEGIN:STANDARD
TZOFFSETFROM:-0400
TZOFFSETTO:-0500
TZNAME:EST
DTSTART:20211107T060000
END:STANDARD
END:VTIMEZONE
BEGIN:VEVENT
DTSTART;TZID=America/Toronto:20201210T080000
DTEND;TZID=America/Toronto:20201210T170000
DTSTAMP:20260422T093140
CREATED:20201208T162454Z
LAST-MODIFIED:20201208T162454Z
UID:10015806-1607587200-1607619600@www.chga.fm
SUMMARY:Paniers d'épicerie aux familles dans le besoin
DESCRIPTION:Les Chevaliers de Colomb\, conseil 11973\, offrent aux familles dans le besoin \,des paniers d’épicerie  pour Noël\, du Marché Métro André Lapointe ou  du Maxi Maniwaki. \n(Aucun produits d’alcool ne fera partie de ces paniers.) \nLes familles doivent contacter M. Lacroix du 09 au 15 décembre 2020 au  819-449-1049.
URL:https://www.chga.fm/evenement/paniers-depicerie-aux-familles-dans-le-besoin/2020-12-10/
LOCATION:QC\, Canada
END:VEVENT
END:VCALENDAR