BEGIN:VCALENDAR
VERSION:2.0
PRODID:-//CHGA - ECPv6.15.20//NONSGML v1.0//EN
CALSCALE:GREGORIAN
METHOD:PUBLISH
X-WR-CALNAME:CHGA
X-ORIGINAL-URL:https://www.chga.fm
X-WR-CALDESC:évènements pour CHGA
REFRESH-INTERVAL;VALUE=DURATION:PT1H
X-Robots-Tag:noindex
X-PUBLISHED-TTL:PT1H
BEGIN:VTIMEZONE
TZID:America/Toronto
BEGIN:DAYLIGHT
TZOFFSETFROM:-0500
TZOFFSETTO:-0400
TZNAME:EDT
DTSTART:20190310T070000
END:DAYLIGHT
BEGIN:STANDARD
TZOFFSETFROM:-0400
TZOFFSETTO:-0500
TZNAME:EST
DTSTART:20191103T060000
END:STANDARD
BEGIN:DAYLIGHT
TZOFFSETFROM:-0500
TZOFFSETTO:-0400
TZNAME:EDT
DTSTART:20200308T070000
END:DAYLIGHT
BEGIN:STANDARD
TZOFFSETFROM:-0400
TZOFFSETTO:-0500
TZNAME:EST
DTSTART:20201101T060000
END:STANDARD
BEGIN:DAYLIGHT
TZOFFSETFROM:-0500
TZOFFSETTO:-0400
TZNAME:EDT
DTSTART:20210314T070000
END:DAYLIGHT
BEGIN:STANDARD
TZOFFSETFROM:-0400
TZOFFSETTO:-0500
TZNAME:EST
DTSTART:20211107T060000
END:STANDARD
END:VTIMEZONE
BEGIN:VEVENT
DTSTART;TZID=America/Toronto:20201217T100000
DTEND;TZID=America/Toronto:20201217T130000
DTSTAMP:20260422T092859
CREATED:20201117T131642Z
LAST-MODIFIED:20201124T150259Z
UID:372748-1608199200-1608210000@www.chga.fm
SUMMARY:Panier de Noël - comptoir alimentaire L'Essentiel de Blue Sea
DESCRIPTION:D’ici au 9 décembre 2020\, afin d’apporter un réconfort aux plus démuni(e)s de Blue Sea\, encore cette année le comptoir alimentaire L’Essentiel de Blue Sea offre un panier de Noël à toutes les familles ou personnes seules qui en feront la demande\, les bénéficiaires réguliers/régulières sont déjà inscrit(e)s pour recevoir leur panier de Noël\, le tout étant gratuit. \nLes familles ou personnes seules devront communiquer avec la responsable Pierrette Renaud au 819-463-1095. \nUne preuve de résidence ainsi qu’une preuve de revenu familial sera exigée.  \nVous aurez à vous déplacer pour venir chercher votre panier. \nLa distribution se fera le 17 décembre 2020 entre 10h et 13h à l’Église de Blue Sea située au 1\, rue Principale\, Blue Sea.
URL:https://www.chga.fm/evenement/panier-de-noel-comptoir-alimentaire-lessentiel-de-blue-sea/
LOCATION:QC\, Canada
END:VEVENT
END:VCALENDAR