BEGIN:VCALENDAR
VERSION:2.0
PRODID:-//CHGA - ECPv6.15.20//NONSGML v1.0//EN
CALSCALE:GREGORIAN
METHOD:PUBLISH
X-WR-CALNAME:CHGA
X-ORIGINAL-URL:https://www.chga.fm
X-WR-CALDESC:évènements pour CHGA
REFRESH-INTERVAL;VALUE=DURATION:PT1H
X-Robots-Tag:noindex
X-PUBLISHED-TTL:PT1H
BEGIN:VTIMEZONE
TZID:America/Toronto
BEGIN:DAYLIGHT
TZOFFSETFROM:-0500
TZOFFSETTO:-0400
TZNAME:EDT
DTSTART:20190310T070000
END:DAYLIGHT
BEGIN:STANDARD
TZOFFSETFROM:-0400
TZOFFSETTO:-0500
TZNAME:EST
DTSTART:20191103T060000
END:STANDARD
BEGIN:DAYLIGHT
TZOFFSETFROM:-0500
TZOFFSETTO:-0400
TZNAME:EDT
DTSTART:20200308T070000
END:DAYLIGHT
BEGIN:STANDARD
TZOFFSETFROM:-0400
TZOFFSETTO:-0500
TZNAME:EST
DTSTART:20201101T060000
END:STANDARD
BEGIN:DAYLIGHT
TZOFFSETFROM:-0500
TZOFFSETTO:-0400
TZNAME:EDT
DTSTART:20210314T070000
END:DAYLIGHT
BEGIN:STANDARD
TZOFFSETFROM:-0400
TZOFFSETTO:-0500
TZNAME:EST
DTSTART:20211107T060000
END:STANDARD
END:VTIMEZONE
BEGIN:VEVENT
DTSTART;TZID=America/Toronto:20201205T080000
DTEND;TZID=America/Toronto:20201205T170000
DTSTAMP:20260422T111539
CREATED:20201127T182120Z
LAST-MODIFIED:20201127T182120Z
UID:10015714-1607155200-1607187600@www.chga.fm
SUMMARY:Pain Quotidien  -  Heure d'ouverture
DESCRIPTION:Prendre note que le Pain Quotidien sera ouvert les 8\,9\,15 et 16 décembre 2020. \nLes gens doivent se présenter\, au 128 rue du Christ-Roi\, entre 9h et 10h45 pour recevoir leur panier d’épicerie. \nLes gens doivent apporter une preuve  d’identité avec photo et devront respecter la distanciation et le port du masque. \nPour plus de renseignements\, vous pouvez téléphoner au 819-306-0562
URL:https://www.chga.fm/evenement/pain-quotidien-heure-douverture/2020-12-05/
LOCATION:QC\, Canada
END:VEVENT
END:VCALENDAR