BEGIN:VCALENDAR
VERSION:2.0
PRODID:-//CHGA - ECPv6.15.20//NONSGML v1.0//EN
CALSCALE:GREGORIAN
METHOD:PUBLISH
X-WR-CALNAME:CHGA
X-ORIGINAL-URL:https://www.chga.fm
X-WR-CALDESC:évènements pour CHGA
REFRESH-INTERVAL;VALUE=DURATION:PT1H
X-Robots-Tag:noindex
X-PUBLISHED-TTL:PT1H
BEGIN:VTIMEZONE
TZID:America/Toronto
BEGIN:DAYLIGHT
TZOFFSETFROM:-0500
TZOFFSETTO:-0400
TZNAME:EDT
DTSTART:20200308T070000
END:DAYLIGHT
BEGIN:STANDARD
TZOFFSETFROM:-0400
TZOFFSETTO:-0500
TZNAME:EST
DTSTART:20201101T060000
END:STANDARD
BEGIN:DAYLIGHT
TZOFFSETFROM:-0500
TZOFFSETTO:-0400
TZNAME:EDT
DTSTART:20210314T070000
END:DAYLIGHT
BEGIN:STANDARD
TZOFFSETFROM:-0400
TZOFFSETTO:-0500
TZNAME:EST
DTSTART:20211107T060000
END:STANDARD
BEGIN:DAYLIGHT
TZOFFSETFROM:-0500
TZOFFSETTO:-0400
TZNAME:EDT
DTSTART:20220313T070000
END:DAYLIGHT
BEGIN:STANDARD
TZOFFSETFROM:-0400
TZOFFSETTO:-0500
TZNAME:EST
DTSTART:20221106T060000
END:STANDARD
END:VTIMEZONE
BEGIN:VEVENT
DTSTART;VALUE=DATE:20210913
DTEND;VALUE=DATE:20210920
DTSTAMP:20260421T182355
CREATED:20210903T142448Z
LAST-MODIFIED:20210903T143030Z
UID:387157-1631491200-1632095999@www.chga.fm
SUMMARY:Pain Quotidien - Biscuits sourires
DESCRIPTION:Du 13 au 19 septembre\, Tim Horton a choisi de remettre les profits de la vente des biscuits sourire à la banque alimentaire Le Pain Quotidien de Maniwaki. \nMarjolaine Piché\, responsable du Pain Quotidien\, encourage donc les gens à se rendre au Tim Horton durant cette période pour se procurer des biscuits sourire pour la cause. \nLe Pain Quotidien est un organisme à but non lucratif qui dessert les gens démunis ou dans le besoin en leur fournissant un panier d’épicerie. \nSachez que vous pouvez passer vos commandes 48 heures à l’avance auprès de Tim Horton. Vous pouvez également télécharger le formulaire pour précommander au www.timhortons.ca/biscuit-sourire
URL:https://www.chga.fm/evenement/pain-quotidien-biscuits-sourires/
LOCATION:QC\, Canada
END:VEVENT
END:VCALENDAR