BEGIN:VCALENDAR
VERSION:2.0
PRODID:-//CHGA - ECPv6.15.20//NONSGML v1.0//EN
CALSCALE:GREGORIAN
METHOD:PUBLISH
X-WR-CALNAME:CHGA
X-ORIGINAL-URL:https://www.chga.fm
X-WR-CALDESC:évènements pour CHGA
REFRESH-INTERVAL;VALUE=DURATION:PT1H
X-Robots-Tag:noindex
X-PUBLISHED-TTL:PT1H
BEGIN:VTIMEZONE
TZID:America/Toronto
BEGIN:DAYLIGHT
TZOFFSETFROM:-0500
TZOFFSETTO:-0400
TZNAME:EDT
DTSTART:20210314T070000
END:DAYLIGHT
BEGIN:STANDARD
TZOFFSETFROM:-0400
TZOFFSETTO:-0500
TZNAME:EST
DTSTART:20211107T060000
END:STANDARD
BEGIN:DAYLIGHT
TZOFFSETFROM:-0500
TZOFFSETTO:-0400
TZNAME:EDT
DTSTART:20220313T070000
END:DAYLIGHT
BEGIN:STANDARD
TZOFFSETFROM:-0400
TZOFFSETTO:-0500
TZNAME:EST
DTSTART:20221106T060000
END:STANDARD
BEGIN:DAYLIGHT
TZOFFSETFROM:-0500
TZOFFSETTO:-0400
TZNAME:EDT
DTSTART:20230312T070000
END:DAYLIGHT
BEGIN:STANDARD
TZOFFSETFROM:-0400
TZOFFSETTO:-0500
TZNAME:EST
DTSTART:20231105T060000
END:STANDARD
END:VTIMEZONE
BEGIN:VEVENT
DTSTART;TZID=America/Toronto:20220427T090000
DTEND;TZID=America/Toronto:20220427T110000
DTSTAMP:20260421T064951
CREATED:20220404T123308Z
LAST-MODIFIED:20230713T172347Z
UID:399393-1651050000-1651057200@www.chga.fm
SUMMARY:Pain Quotidien
DESCRIPTION:« S.V.P. Prendre note que le Pain Quotidien sera ouvert les 5\, 12\, 13\, 19\, 20 et 27 avril 2022. \n Les gens doivent se présenter au 128\, rue du Christ-Roi (au sous-sol de l’Église du Christ-Roi)\, entre 9h et 11h\, pour s’inscrire et recevoir leur panier d’épicerie. \nIl faudra respecter la distanciation\, le port du masque est essentiel et vous devez avoir vos cartes d’identité dont une avec photo. »   \nSi vous avez des questions\, n’hésitez pas à me contacter  par téléphone. \nMarjolaine Piché 819 306-0562
URL:https://www.chga.fm/evenement/pain-quotidien-18/
LOCATION:Sous-Sol de l’église Christ-Roi\, Canada
END:VEVENT
END:VCALENDAR