BEGIN:VCALENDAR
VERSION:2.0
PRODID:-//CHGA - ECPv6.15.20//NONSGML v1.0//EN
CALSCALE:GREGORIAN
METHOD:PUBLISH
X-WR-CALNAME:CHGA
X-ORIGINAL-URL:https://www.chga.fm
X-WR-CALDESC:évènements pour CHGA
REFRESH-INTERVAL;VALUE=DURATION:PT1H
X-Robots-Tag:noindex
X-PUBLISHED-TTL:PT1H
BEGIN:VTIMEZONE
TZID:America/Toronto
BEGIN:DAYLIGHT
TZOFFSETFROM:-0500
TZOFFSETTO:-0400
TZNAME:EDT
DTSTART:20200308T070000
END:DAYLIGHT
BEGIN:STANDARD
TZOFFSETFROM:-0400
TZOFFSETTO:-0500
TZNAME:EST
DTSTART:20201101T060000
END:STANDARD
BEGIN:DAYLIGHT
TZOFFSETFROM:-0500
TZOFFSETTO:-0400
TZNAME:EDT
DTSTART:20210314T070000
END:DAYLIGHT
BEGIN:STANDARD
TZOFFSETFROM:-0400
TZOFFSETTO:-0500
TZNAME:EST
DTSTART:20211107T060000
END:STANDARD
BEGIN:DAYLIGHT
TZOFFSETFROM:-0500
TZOFFSETTO:-0400
TZNAME:EDT
DTSTART:20220313T070000
END:DAYLIGHT
BEGIN:STANDARD
TZOFFSETFROM:-0400
TZOFFSETTO:-0500
TZNAME:EST
DTSTART:20221106T060000
END:STANDARD
END:VTIMEZONE
BEGIN:VEVENT
DTSTART;TZID=America/Toronto:20211012T090000
DTEND;TZID=America/Toronto:20211012T110000
DTSTAMP:20260421T165246
CREATED:20211004T130616Z
LAST-MODIFIED:20211004T130616Z
UID:10016036-1634029200-1634036400@www.chga.fm
SUMMARY:Pain quotidien
DESCRIPTION:Le Pain Quotidien sera ouvert les 5\, 12\, 13\, 19\, 20\, 27 octobre 2021.  \nPour s’inscrire et recevoir leur panier d’épicerie\, les gens devront se présenter au 128\, rue du Christ-Roi (au sous-sol de l’Église du Christ-Roi)\, entre 9 h 00 et 11 h 00. \nIl faudra respecter la distanciation\, le port du masque est essentiel et vous devez avoir vos cartes d’identité dont une avec photo.
URL:https://www.chga.fm/evenement/pain-quotidien-12/2021-10-12/
LOCATION:Église Christ-Roi\, 128\, rue Christ-Roi\, Maniwaki\, QC\, Canada
END:VEVENT
END:VCALENDAR