BEGIN:VCALENDAR
VERSION:2.0
PRODID:-//CHGA - ECPv6.15.20//NONSGML v1.0//EN
CALSCALE:GREGORIAN
METHOD:PUBLISH
X-WR-CALNAME:CHGA
X-ORIGINAL-URL:https://www.chga.fm
X-WR-CALDESC:évènements pour CHGA
REFRESH-INTERVAL;VALUE=DURATION:PT1H
X-Robots-Tag:noindex
X-PUBLISHED-TTL:PT1H
BEGIN:VTIMEZONE
TZID:America/Toronto
BEGIN:DAYLIGHT
TZOFFSETFROM:-0500
TZOFFSETTO:-0400
TZNAME:EDT
DTSTART:20200308T070000
END:DAYLIGHT
BEGIN:STANDARD
TZOFFSETFROM:-0400
TZOFFSETTO:-0500
TZNAME:EST
DTSTART:20201101T060000
END:STANDARD
BEGIN:DAYLIGHT
TZOFFSETFROM:-0500
TZOFFSETTO:-0400
TZNAME:EDT
DTSTART:20210314T070000
END:DAYLIGHT
BEGIN:STANDARD
TZOFFSETFROM:-0400
TZOFFSETTO:-0500
TZNAME:EST
DTSTART:20211107T060000
END:STANDARD
BEGIN:DAYLIGHT
TZOFFSETFROM:-0500
TZOFFSETTO:-0400
TZNAME:EDT
DTSTART:20220313T070000
END:DAYLIGHT
BEGIN:STANDARD
TZOFFSETFROM:-0400
TZOFFSETTO:-0500
TZNAME:EST
DTSTART:20221106T060000
END:STANDARD
END:VTIMEZONE
BEGIN:VEVENT
DTSTART;TZID=America/Toronto:20211218T100000
DTEND;TZID=America/Toronto:20211218T140000
DTSTAMP:20260421T152941
CREATED:20211122T162042Z
LAST-MODIFIED:20211216T151543Z
UID:392103-1639821600-1639836000@www.chga.fm
SUMMARY:Noël pour enfants de Déléage
DESCRIPTION:Le club optimiste Déléage 2015 vous informe que la distribution des cadeaux de Noël aux enfants de la municipalité de Déléage qui se sont inscrits se fera ce samedi 18 décembre entre 10h et 14h. \nLa remise des cadeaux sera faite à l’extérieur sur vos balcons. \nDe plus\, en cas d’absence les présents seront laissés sur votre balcon dans l’attente de votre retour. 
URL:https://www.chga.fm/evenement/noel-pour-enfants-de-deleage/
LOCATION:QC\, Canada
END:VEVENT
END:VCALENDAR