BEGIN:VCALENDAR
VERSION:2.0
PRODID:-//CHGA - ECPv6.15.20//NONSGML v1.0//EN
CALSCALE:GREGORIAN
METHOD:PUBLISH
X-WR-CALNAME:CHGA
X-ORIGINAL-URL:https://www.chga.fm
X-WR-CALDESC:évènements pour CHGA
REFRESH-INTERVAL;VALUE=DURATION:PT1H
X-Robots-Tag:noindex
X-PUBLISHED-TTL:PT1H
BEGIN:VTIMEZONE
TZID:America/Toronto
BEGIN:DAYLIGHT
TZOFFSETFROM:-0500
TZOFFSETTO:-0400
TZNAME:EDT
DTSTART:20200308T070000
END:DAYLIGHT
BEGIN:STANDARD
TZOFFSETFROM:-0400
TZOFFSETTO:-0500
TZNAME:EST
DTSTART:20201101T060000
END:STANDARD
BEGIN:DAYLIGHT
TZOFFSETFROM:-0500
TZOFFSETTO:-0400
TZNAME:EDT
DTSTART:20210314T070000
END:DAYLIGHT
BEGIN:STANDARD
TZOFFSETFROM:-0400
TZOFFSETTO:-0500
TZNAME:EST
DTSTART:20211107T060000
END:STANDARD
BEGIN:DAYLIGHT
TZOFFSETFROM:-0500
TZOFFSETTO:-0400
TZNAME:EDT
DTSTART:20220313T070000
END:DAYLIGHT
BEGIN:STANDARD
TZOFFSETFROM:-0400
TZOFFSETTO:-0500
TZNAME:EST
DTSTART:20221106T060000
END:STANDARD
END:VTIMEZONE
BEGIN:VEVENT
DTSTART;TZID=America/Toronto:20211218T130000
DTEND;TZID=America/Toronto:20211218T150000
DTSTAMP:20260421T153113
CREATED:20211217T205113Z
LAST-MODIFIED:20211217T205804Z
UID:393640-1639832400-1639839600@www.chga.fm
SUMMARY:Noël des enfants de Grand-Remous
DESCRIPTION:La municipalité de Grand-Remous tiens à informer la population qui ont inscrit leurs enfants qu’il y a un changement de planification pour la remise des cadeaux en raison des nouvelles mesures sanitaires à respecter. \nCelle-ci se fera donc directement à l’auto\, dans le stationnement de la salle Jean-Guy Prévost et non à l’intérieur comme supposé. \nLa remise des cadeaux aura lieu ce samedi 18 décembre\, entre 13 h 00 et 15 h 00.
URL:https://www.chga.fm/evenement/noel-des-enfants-de-grand-remous/
LOCATION:Salle Jean-Guy Prévost\, 1508\, route Transcanadienne\, Grand-Remous\, QC\, J0W 1E0\, Canada
END:VEVENT
END:VCALENDAR