BEGIN:VCALENDAR
VERSION:2.0
PRODID:-//CHGA - ECPv6.15.20//NONSGML v1.0//EN
CALSCALE:GREGORIAN
METHOD:PUBLISH
X-WR-CALNAME:CHGA
X-ORIGINAL-URL:https://www.chga.fm
X-WR-CALDESC:évènements pour CHGA
REFRESH-INTERVAL;VALUE=DURATION:PT1H
X-Robots-Tag:noindex
X-PUBLISHED-TTL:PT1H
BEGIN:VTIMEZONE
TZID:America/Toronto
BEGIN:DAYLIGHT
TZOFFSETFROM:-0500
TZOFFSETTO:-0400
TZNAME:EDT
DTSTART:20200308T070000
END:DAYLIGHT
BEGIN:STANDARD
TZOFFSETFROM:-0400
TZOFFSETTO:-0500
TZNAME:EST
DTSTART:20201101T060000
END:STANDARD
BEGIN:DAYLIGHT
TZOFFSETFROM:-0500
TZOFFSETTO:-0400
TZNAME:EDT
DTSTART:20210314T070000
END:DAYLIGHT
BEGIN:STANDARD
TZOFFSETFROM:-0400
TZOFFSETTO:-0500
TZNAME:EST
DTSTART:20211107T060000
END:STANDARD
BEGIN:DAYLIGHT
TZOFFSETFROM:-0500
TZOFFSETTO:-0400
TZNAME:EDT
DTSTART:20220313T070000
END:DAYLIGHT
BEGIN:STANDARD
TZOFFSETFROM:-0400
TZOFFSETTO:-0500
TZNAME:EST
DTSTART:20221106T060000
END:STANDARD
END:VTIMEZONE
BEGIN:VEVENT
DTSTART;TZID=America/Toronto:20210405T080000
DTEND;TZID=America/Toronto:20210405T170000
DTSTAMP:20260422T020522
CREATED:20210330T121105Z
LAST-MODIFIED:20210330T121105Z
UID:378827-1617609600-1617642000@www.chga.fm
SUMMARY:Municipalité de Montcerf-Lytton - Collecte des matières résiduelles
DESCRIPTION:La municipalité de Montcerf-Lytton désire aviser ses citoyens que des changements auront lieu pour les collectes de matières résiduelles à partir du 5 avril prochain. \nPrenez note de bien suivre les calendriers actuels\, sauf que : \n– Pour les citoyens secteur Barrage-Mercier : Les bacs doivent être mis à la descente de bateau directement. \n– Pour les citoyens du chemin Bras-coupé : Laisser les bacs au chemin Ripipi. \n– Pour les citoyens du chemin du Lac Logue : Laisser les bacs aux boîtes aux lettres. \nNous avertirons les contribuables dès que le tout sera revenu à la normale.
URL:https://www.chga.fm/evenement/municipalite-de-montcerf-lytton-collecte-des-matieres-residuelles/
LOCATION:QC\, Canada
END:VEVENT
END:VCALENDAR