BEGIN:VCALENDAR
VERSION:2.0
PRODID:-//CHGA - ECPv6.15.20//NONSGML v1.0//EN
CALSCALE:GREGORIAN
METHOD:PUBLISH
X-WR-CALNAME:CHGA
X-ORIGINAL-URL:https://www.chga.fm
X-WR-CALDESC:évènements pour CHGA
REFRESH-INTERVAL;VALUE=DURATION:PT1H
X-Robots-Tag:noindex
X-PUBLISHED-TTL:PT1H
BEGIN:VTIMEZONE
TZID:America/Toronto
BEGIN:DAYLIGHT
TZOFFSETFROM:-0500
TZOFFSETTO:-0400
TZNAME:EDT
DTSTART:20190310T070000
END:DAYLIGHT
BEGIN:STANDARD
TZOFFSETFROM:-0400
TZOFFSETTO:-0500
TZNAME:EST
DTSTART:20191103T060000
END:STANDARD
BEGIN:DAYLIGHT
TZOFFSETFROM:-0500
TZOFFSETTO:-0400
TZNAME:EDT
DTSTART:20200308T070000
END:DAYLIGHT
BEGIN:STANDARD
TZOFFSETFROM:-0400
TZOFFSETTO:-0500
TZNAME:EST
DTSTART:20201101T060000
END:STANDARD
BEGIN:DAYLIGHT
TZOFFSETFROM:-0500
TZOFFSETTO:-0400
TZNAME:EDT
DTSTART:20210314T070000
END:DAYLIGHT
BEGIN:STANDARD
TZOFFSETFROM:-0400
TZOFFSETTO:-0500
TZNAME:EST
DTSTART:20211107T060000
END:STANDARD
END:VTIMEZONE
BEGIN:VEVENT
DTSTART;TZID=America/Toronto:20201124T080000
DTEND;TZID=America/Toronto:20201124T170000
DTSTAMP:20260422T113509
CREATED:20201119T174103Z
LAST-MODIFIED:20201119T174103Z
UID:10015149-1606204800-1606237200@www.chga.fm
SUMMARY:Municipalité de Bouchette - Noël des enfants
DESCRIPTION:Nouveauté cette année\, en ce temps de pandémie de la COVID-19\, le Père Noël fera lui-même la livraison des cadeaux de porte-à -porte. \nComme à chaque année\, le Comité des loisirs est responsable de cette activité. \nAutre nouveauté cette année\, les parents doivent procéder à l’inscription de leur enfant. \nLe formulaire d’inscription est disponible sur le site Web de la municipalité ainsi que sur la page Facebook. \nLa date limite pour les inscriptions est fixée au 27 Novembre 2020. \nLa livraison est prévue pour le 12 Décembre 2020. \nPour information: 819-465-2555 ou par courriel à l’adresse: info@bouchette.ca
URL:https://www.chga.fm/evenement/municipalite-de-bouchette-noel-des-enfants/2020-11-24/
LOCATION:Municipalité de Bouchette\, QC\, Canada
END:VEVENT
END:VCALENDAR