BEGIN:VCALENDAR
VERSION:2.0
PRODID:-//CHGA - ECPv6.15.20//NONSGML v1.0//EN
CALSCALE:GREGORIAN
METHOD:PUBLISH
X-WR-CALNAME:CHGA
X-ORIGINAL-URL:https://www.chga.fm
X-WR-CALDESC:évènements pour CHGA
REFRESH-INTERVAL;VALUE=DURATION:PT1H
X-Robots-Tag:noindex
X-PUBLISHED-TTL:PT1H
BEGIN:VTIMEZONE
TZID:America/Toronto
BEGIN:DAYLIGHT
TZOFFSETFROM:-0500
TZOFFSETTO:-0400
TZNAME:EDT
DTSTART:20220313T070000
END:DAYLIGHT
BEGIN:STANDARD
TZOFFSETFROM:-0400
TZOFFSETTO:-0500
TZNAME:EST
DTSTART:20221106T060000
END:STANDARD
BEGIN:DAYLIGHT
TZOFFSETFROM:-0500
TZOFFSETTO:-0400
TZNAME:EDT
DTSTART:20230312T070000
END:DAYLIGHT
BEGIN:STANDARD
TZOFFSETFROM:-0400
TZOFFSETTO:-0500
TZNAME:EST
DTSTART:20231105T060000
END:STANDARD
BEGIN:DAYLIGHT
TZOFFSETFROM:-0500
TZOFFSETTO:-0400
TZNAME:EDT
DTSTART:20240310T070000
END:DAYLIGHT
BEGIN:STANDARD
TZOFFSETFROM:-0400
TZOFFSETTO:-0500
TZNAME:EST
DTSTART:20241103T060000
END:STANDARD
END:VTIMEZONE
BEGIN:VEVENT
DTSTART;TZID=America/Toronto:20230611T090000
DTEND;TZID=America/Toronto:20230611T100000
DTSTAMP:20260420T085037
CREATED:20230606T120722Z
LAST-MODIFIED:20230606T120831Z
UID:425034-1686474000-1686477600@www.chga.fm
SUMMARY:Messe pour la fête des pères - La Communauté Saint-Boniface de Bois-Franc
DESCRIPTION:La Communauté Saint-Boniface de Bois-Franc\, organise dimanche le 11 juin 2023\, une messe ou ils souligneront la fête des pères. Ils souligneront un papa parmi les doyens et un jeune papa. Le nouveau pianiste Francis offrira un petit concert avant la messe de 9 h 15. Francis va interpréter des pièces classiques. Vous êtes les bienvenues à la messe de dimanche prochain à 9 h 15 à l’église Saint-Boniface de Bois-Franc. \nPour plus d’informations\, communiquez avec Yves au 819 449-3056.
URL:https://www.chga.fm/evenement/messe-pour-la-fete-des-peres-la-communaute-saint-boniface-de-bois-franc/
LOCATION:QC\, Canada
END:VEVENT
END:VCALENDAR