BEGIN:VCALENDAR
VERSION:2.0
PRODID:-//CHGA - ECPv6.15.20//NONSGML v1.0//EN
CALSCALE:GREGORIAN
METHOD:PUBLISH
X-WR-CALNAME:CHGA
X-ORIGINAL-URL:https://www.chga.fm
X-WR-CALDESC:évènements pour CHGA
REFRESH-INTERVAL;VALUE=DURATION:PT1H
X-Robots-Tag:noindex
X-PUBLISHED-TTL:PT1H
BEGIN:VTIMEZONE
TZID:America/Toronto
BEGIN:DAYLIGHT
TZOFFSETFROM:-0500
TZOFFSETTO:-0400
TZNAME:EDT
DTSTART:20210314T070000
END:DAYLIGHT
BEGIN:STANDARD
TZOFFSETFROM:-0400
TZOFFSETTO:-0500
TZNAME:EST
DTSTART:20211107T060000
END:STANDARD
BEGIN:DAYLIGHT
TZOFFSETFROM:-0500
TZOFFSETTO:-0400
TZNAME:EDT
DTSTART:20220313T070000
END:DAYLIGHT
BEGIN:STANDARD
TZOFFSETFROM:-0400
TZOFFSETTO:-0500
TZNAME:EST
DTSTART:20221106T060000
END:STANDARD
BEGIN:DAYLIGHT
TZOFFSETFROM:-0500
TZOFFSETTO:-0400
TZNAME:EDT
DTSTART:20230312T070000
END:DAYLIGHT
BEGIN:STANDARD
TZOFFSETFROM:-0400
TZOFFSETTO:-0500
TZNAME:EST
DTSTART:20231105T060000
END:STANDARD
END:VTIMEZONE
BEGIN:VEVENT
DTSTART;TZID=America/Toronto:20221005T110000
DTEND;TZID=America/Toronto:20221005T130000
DTSTAMP:20260420T205058
CREATED:20220927T130112Z
LAST-MODIFIED:20220927T130112Z
UID:410234-1664967600-1664974800@www.chga.fm
SUMMARY:Messe et réunion avec Les Filles d'Isabelle de Maniwaki
DESCRIPTION:Mercredi le 5 octobre prochain\, il y aura une messe à 11h suivi du diner\, vous devez apporter votre repas. La réunion se déroulera à 13h à l’Église de Gracefield. Pour plus d’informations vous pouvez communiquer avec Léonna au 819-463-2825.
URL:https://www.chga.fm/evenement/messe-et-reunion-avec-les-filles-disabelle-de-maniwaki/
LOCATION:QC\, Canada
END:VEVENT
END:VCALENDAR