BEGIN:VCALENDAR
VERSION:2.0
PRODID:-//CHGA - ECPv6.15.20//NONSGML v1.0//EN
CALSCALE:GREGORIAN
METHOD:PUBLISH
X-WR-CALNAME:CHGA
X-ORIGINAL-URL:https://www.chga.fm
X-WR-CALDESC:évènements pour CHGA
REFRESH-INTERVAL;VALUE=DURATION:PT1H
X-Robots-Tag:noindex
X-PUBLISHED-TTL:PT1H
BEGIN:VTIMEZONE
TZID:America/Toronto
BEGIN:DAYLIGHT
TZOFFSETFROM:-0500
TZOFFSETTO:-0400
TZNAME:EDT
DTSTART:20210314T070000
END:DAYLIGHT
BEGIN:STANDARD
TZOFFSETFROM:-0400
TZOFFSETTO:-0500
TZNAME:EST
DTSTART:20211107T060000
END:STANDARD
BEGIN:DAYLIGHT
TZOFFSETFROM:-0500
TZOFFSETTO:-0400
TZNAME:EDT
DTSTART:20220313T070000
END:DAYLIGHT
BEGIN:STANDARD
TZOFFSETFROM:-0400
TZOFFSETTO:-0500
TZNAME:EST
DTSTART:20221106T060000
END:STANDARD
BEGIN:DAYLIGHT
TZOFFSETFROM:-0500
TZOFFSETTO:-0400
TZNAME:EDT
DTSTART:20230312T070000
END:DAYLIGHT
BEGIN:STANDARD
TZOFFSETFROM:-0400
TZOFFSETTO:-0500
TZNAME:EST
DTSTART:20231105T060000
END:STANDARD
END:VTIMEZONE
BEGIN:VEVENT
DTSTART;TZID=America/Toronto:20220717T091500
DTEND;TZID=America/Toronto:20220717T103000
DTSTAMP:20260421T042855
CREATED:20220711T140720Z
LAST-MODIFIED:20220711T140926Z
UID:406206-1658049300-1658053800@www.chga.fm
SUMMARY:Messe à l'église Ste-Philomène
DESCRIPTION:Lors de la messe de ce dimanche 17 juillet à 9 h 15\, en l’église Ste-Philomène de Montcerf-Lytton\, \nla communauté Ste-Philomène rendra un hommage spécial aux grand-parents\, \nafin de souligner la fête de la bonne sainte Anne\, patronne du Québec\, \net de son époux\, saint Joachim\, grand-parents de Jésus. \nUn couple de grand-parents mystère d la communauté sera souligné tout particulièrement. \nVenez prier avec nous pour la fin de la guerre en Ukraine.
URL:https://www.chga.fm/evenement/messe-a-leglise-ste-philomene-2/
LOCATION:Église Ste-Philomène\, 104\, rue Principale Sud\, Montcerf-Lytton\, QC\, J0W 1N0\, Canada
END:VEVENT
END:VCALENDAR